Workbook
Name \s: 'ADM-COMP'!#REF!
Name \s: 'CLI-COMP'!#REF!
Name \s: 'EST-COMP'!#REF!
Name \s: 'GAS-COMP'!#REF!
Name \s: 'HID-COMP'!#REF!
Name \s: 'IMPER-COMP'!#REF!
Name \s: 'IMPL-COMP'!#REF!
Name \s: 'INC-COMP'!#REF!
Name \s: 'SCE-COMP'!#REF!
Name \s: 'SEG-COMP'!#REF!
Name \s: 'SPDA-COMP'!#REF!
Name \s: #REF!
Name \t: 'ADM-COMP'!#REF!
Name \t: 'CLI-COMP'!#REF!
Name \t: 'EST-COMP'!#REF!
Name \t: 'GAS-COMP'!#REF!
Name \t: 'HID-COMP'!#REF!
Name \t: 'IMPER-COMP'!#REF!
Name \t: 'IMPL-COMP'!#REF!
Name \t: 'INC-COMP'!#REF!
Name \t: 'SCE-COMP'!#REF!
Name \t: 'SEG-COMP'!#REF!
Name \t: 'SPDA-COMP'!#REF!
Name \t: #REF!
Name __6Excel_BuiltIn_Print_Area_3_1_1_1_1_1: 'ADM-COMP'!#REF!
Name __6Excel_BuiltIn_Print_Area_3_1_1_1_1_1: 'CLI-COMP'!#REF!
Name __6Excel_BuiltIn_Print_Area_3_1_1_1_1_1: 'EST-COMP'!#REF!
Name __6Excel_BuiltIn_Print_Area_3_1_1_1_1_1: 'GAS-COMP'!#REF!
Name __6Excel_BuiltIn_Print_Area_3_1_1_1_1_1: 'HID-COMP'!#REF!
Name __6Excel_BuiltIn_Print_Area_3_1_1_1_1_1: 'IMPER-COMP'!#REF!
Name __6Excel_BuiltIn_Print_Area_3_1_1_1_1_1: 'IMPL-COMP'!#REF!
Name __6Excel_BuiltIn_Print_Area_3_1_1_1_1_1: 'INC-COMP'!#REF!
Name __6Excel_BuiltIn_Print_Area_3_1_1_1_1_1: 'SCE-COMP'!#REF!
Name __6Excel_BuiltIn_Print_Area_3_1_1_1_1_1: 'SEG-COMP'!#REF!
Name __6Excel_BuiltIn_Print_Area_3_1_1_1_1_1: 'SPDA-COMP'!#REF!
Name __6Excel_BuiltIn_Print_Area_3_1_1_1_1_1: #REF!
Name _10Excel_BuiltIn_Print_Area_5_1: 'ADM-COMP'!#REF!
Name _10Excel_BuiltIn_Print_Area_5_1: 'CLI-COMP'!#REF!
Name _10Excel_BuiltIn_Print_Area_5_1: 'EST-COMP'!#REF!
Name _10Excel_BuiltIn_Print_Area_5_1: 'GAS-COMP'!#REF!
Name _10Excel_BuiltIn_Print_Area_5_1: 'HID-COMP'!#REF!
Name _10Excel_BuiltIn_Print_Area_5_1: 'IMPER-COMP'!#REF!
Name _10Excel_BuiltIn_Print_Area_5_1: 'IMPL-COMP'!#REF!
Name _10Excel_BuiltIn_Print_Area_5_1: 'INC-COMP'!#REF!
Name _10Excel_BuiltIn_Print_Area_5_1: 'SCE-COMP'!#REF!
Name _10Excel_BuiltIn_Print_Area_5_1: 'SEG-COMP'!#REF!
Name _10Excel_BuiltIn_Print_Area_5_1: 'SPDA-COMP'!#REF!
Name _10Excel_BuiltIn_Print_Area_5_1: #REF!
Name _10Excel_BuiltIn_Print_Area_7_1: 'ADM-COMP'!#REF!
Name _10Excel_BuiltIn_Print_Area_7_1: 'CLI-COMP'!#REF!
Name _10Excel_BuiltIn_Print_Area_7_1: 'EST-COMP'!#REF!
Name _10Excel_BuiltIn_Print_Area_7_1: 'GAS-COMP'!#REF!
Name _10Excel_BuiltIn_Print_Area_7_1: 'HID-COMP'!#REF!
Name _10Excel_BuiltIn_Print_Area_7_1: 'IMPER-COMP'!#REF!
Name _10Excel_BuiltIn_Print_Area_7_1: 'IMPL-COMP'!#REF!
Name _10Excel_BuiltIn_Print_Area_7_1: 'INC-COMP'!#REF!
Name _10Excel_BuiltIn_Print_Area_7_1: 'SCE-COMP'!#REF!
Name _10Excel_BuiltIn_Print_Area_7_1: 'SEG-COMP'!#REF!
Name _10Excel_BuiltIn_Print_Area_7_1: 'SPDA-COMP'!#REF!
Name _10Excel_BuiltIn_Print_Area_7_1: #REF!

Sheet RESUMO
B1: RESUMO
B3: CONSTRUÇÃO CÂMARA MUNICIPAL DE CARIACICA | D3: LS: 116,15%
D4: BDI: 31,01% - Serviços DATA BASE: mai/2025 | H4: =D7+D8+D9+D10 -> 5735663.7
B5: RESUMO DO ORÇAMENTO
B6: ITEM | C6: SERVIÇO | D6: TOTAL | E6: %
B7: 01 | C7: =UPPER(VLOOKUP($B7,GLOBAL!A:H,4,0)) -> SERVIÇOS PRELIMINARES | D7: =K7 -> 752352.15 | E7: =D7/$D$25 -> 0.043989721 | G7: SUBTOTAL 01 | K7: =GLOBAL!H44 -> 752352.15 | L7: =D7-K7 -> 0
B8: 02 | C8: =UPPER(VLOOKUP($B8,GLOBAL!A:H,4,0)) -> MOVIMENTO DE TERRA | D8: =K8 -> 423072.55 | E8: =D8/$D$25 -> 0.024736878 | G8: SUBTOTAL 02 | K8: =GLOBAL!H57 -> 423072.55 | L8: =D8-K8 -> 0
A9: 2 | B9: 03 | C9: =UPPER(VLOOKUP($B9,GLOBAL!A:H,4,0)) -> ESTRUTURAS | D9: =K9 -> 3617688.8 | E9: =D9/$D$25 -> 0.21152478 | G9: SUBTOTAL 03 | K9: =GLOBAL!H80 -> 3617688.8 | L9: =D9-K9 -> 0
B10: 04 | C10: =UPPER(VLOOKUP($B10,GLOBAL!A:H,4,0)) -> PAREDES E PAINÉIS | D10: =K10 -> 942550.15 | E10: =D10/$D$25 -> 0.05511052 | G10: SUBTOTAL 04 | K10: =GLOBAL!H91 -> 942550.15 | L10: =D10-K10 -> 0
B11: 05 | C11: =UPPER(VLOOKUP($B11,GLOBAL!A:H,4,0)) -> ESQUADRIAS | D11: =K11 -> 2131051.9 | E11: =D11/$D$25 -> 0.12460173 | G11: SUBTOTAL 05 | K11: =GLOBAL!H109 -> 2131051.9 | L11: =D11-K11 -> 0
B12: 06 | C12: =UPPER(VLOOKUP($B12,GLOBAL!A:H,4,0)) -> COBERTURA | D12: =K12 -> 735515.09 | E12: =D12/$D$25 -> 0.043005265 | G12: SUBTOTAL 06 | K12: =GLOBAL!H123 -> 735515.09 | L12: =D12-K12 -> 0
A13: 2 | B13: 07 | C13: =UPPER(VLOOKUP($B13,GLOBAL!A:H,4,0)) -> IMPERMEABILIZAÇÃO | D13: =K13 -> 49810.73 | E13: =D13/$D$25 -> 0.0029124129 | G13: SUBTOTAL 07 | K13: =GLOBAL!H129 -> 49810.73 | L13: =D13-K13 -> 0
B14: 08 | C14: =UPPER(VLOOKUP($B14,GLOBAL!A:H,4,0)) -> TETOS E FORROS | D14: =K14 -> 284878.05 | E14: =D14/$D$25 -> 0.016656703 | G14: SUBTOTAL 08 | K14: =GLOBAL!H134 -> 284878.05 | L14: =D14-K14 -> 0
B15: 09 | C15: =UPPER(VLOOKUP($B15,GLOBAL!A:H,4,0)) -> REVESTIMENTOS DE PAREDE | D15: =K15 -> 638743.24 | E15: =D15/$D$25 -> 0.037347055 | G15: SUBTOTAL 09 | K15: =GLOBAL!H144 -> 638743.24 | L15: =D15-K15 -> 0
B16: 10 | C16: =UPPER(VLOOKUP($B16,GLOBAL!A:H,4,0)) -> PISOS INTERNOS E EXTERNOS | D16: =K16 -> 877584.21 | E16: =D16/$D$25 -> 0.051311988 | G16: SUBTOTAL 10 | K16: =GLOBAL!H156 -> 877584.21 | L16: =D16-K16 -> 0
A17: 2 | B17: 11 | C17: =UPPER(VLOOKUP($B17,GLOBAL!A:H,4,0)) -> INSTALAÇÕES HIDROSSANITÁRIAS | D17: =K17 -> 602791.09 | E17: =D17/$D$25 -> 0.035244948 | G17: SUBTOTAL 11 | K17: =GLOBAL!H208 -> 602791.09 | L17: =D17-K17 -> 0
B18: 12 | C18: =UPPER(VLOOKUP($B18,GLOBAL!A:H,4,0)) -> INSTALAÇÕES ELÉTRICAS | D18: =K18 -> 2317824.5 | E18: =D18/$D$25 -> 0.13552225 | G18: SUBTOTAL 12 | K18: =GLOBAL!H277 -> 2317824.5 | L18: =D18-K18 -> 0
B19: 13 | C19: =UPPER(VLOOKUP($B19,GLOBAL!A:H,4,0)) -> OUTRAS INSTALAÇÕES | D19: =K19 -> 787987.22 | E19: =D19/$D$25 -> 0.046073289 | G19: SUBTOTAL 13 | K19: =GLOBAL!H351 -> 787987.22 | L19: =D19-K19 -> 0
B20: 14 | C20: =UPPER(VLOOKUP($B20,GLOBAL!A:H,4,0)) -> APARELHOS HIDRO-SANITÁRIOS | D20: =K20 -> 395284.72 | E20: =D20/$D$25 -> 0.023112135 | G20: SUBTOTAL 14 | K20: =GLOBAL!H378 -> 395284.72 | L20: =D20-K20 -> 0
A21: 2 | B21: 15 | C21: =UPPER(VLOOKUP($B21,GLOBAL!A:H,4,0)) -> APARELHOS ELÉTRICOS | D21: =K21 -> 143955.66 | E21: =D21/$D$25 -> 0.0084170283 | G21: SUBTOTAL 15 | K21: =GLOBAL!H386 -> 143955.66 | L21: =D21-K21 -> 0
B22: 16 | C22: =UPPER(VLOOKUP($B22,GLOBAL!A:H,4,0)) -> PINTURA | D22: =K22 -> 378968.24 | E22: =D22/$D$25 -> 0.022158117 | G22: SUBTOTAL 16 | K22: =GLOBAL!H405 -> 378968.24 | L22: =D22-K22 -> 0
B23: 17 | C23: =UPPER(VLOOKUP($B23,GLOBAL!A:H,4,0)) -> SERVIÇOS COMPLEMENTARES EXTERNOS | D23: =K23 -> 1731020.7 | E23: =D23/$D$25 -> 0.10121207 | G23: SUBTOTAL 17 | K23: =GLOBAL!H431 -> 1731020.7 | L23: =D23-K23 -> 0
B24: 18 | C24: =UPPER(VLOOKUP($B24,GLOBAL!A:H,4,0)) -> REVESTIMENTO EXTERNO | D24: =K24 -> 291828.89 | E24: =D24/$D$25 -> 0.017063115 | G24: SUBTOTAL 18 | K24: =GLOBAL!H439 -> 291828.89 | L24: =D24-K24 -> 0
B25: TOTAL GERAL | D25: =SUM(D7:D24) -> 17102908 | E25: =SUM(E7:E24) -> 1
K26: =SUM(K7:K25) -> 17102908
D28: 901787.27 | E28: =D28-D25 -> -16201121 | G28: =D25*0.05 -> 855145.39
D29: 465 | G29: =G28/8 -> 106893.17 | I29: =D25*0.04 -> 684116.31
D30: =D25/D29 -> 36780.447 | K30: =D25/K26 -> 1
D32: 3500
D33: =D30/D32 -> 10.508699
D34: 910330.37 | E34: =D25-D34 -> 16192577
H38: =D8+D7 -> 1175424.7
D39: 261443.53

Sheet GLOBAL
M1: BDI DIF
G2: LS: 116,15% | K2: 0.3325 | M2: 0.1557
G3: BDI: 33,25% - Serviços DATA BASE: IOPES JUN2023
A4: PLANILHA ORÇAMENTÁRIA | K4: 0.3101 | M4: 0.1557
A5: ITEM | B5: FONTE DE REFERÊNCIA | C5: CÓDIGO | D5: DESCRIÇÃO DOS SERVIÇOS | E5: UNID. | F5: QUANT. | G5: PREÇO UNIT (R$) - C/ BDI | H5: PREÇO TOTAL (R$) | I5: %
A6: 01 | D6: SERVIÇOS PRELIMINARES
A7: 01.01 | D7: LIMPEZA DO TERRENO
A8: 01.01.01 | B8: IOPES | C8: =10401 -> 10401 | D8: =IF(B8="IOPES",VLOOKUP(C8,'LABOR-SERVIÇOS'!A:H,5,FALSE),IF(B8="SINAPI",VLOOKUP(C8,'SINAPI-SERVIÇOS'!A:D,2,FALSE),IF(LEFT(C8,3)="ARQ",VLOOKUP(VALUE(RIGHT(C8,3)),'ARQ-COMP'!B:J,4,FALSE),IF(LEFT(C8,3)="SCI",VLOOKUP(VALUE(RIGHT(C8,3)),'GAS-COMP'!#REF!,4,FALSE),IF(LEFT(C8,3)="SCE",VLOOKUP(VALUE(RIGHT(C8,3)),'SCE-COMP'!B:J,4,FALSE),IF(LEFT(C8,3)="EST",VLOOKUP(VALUE(RIGHT(C8,3)),'EST-COMP'!B:J,4,FALSE),IF(LEFT(C8,3)="HID",VLOOKUP(VALUE(RIGHT(C8,3)),'HID-COMP'!B:J,4,FALSE),IF(LEFT(C8,3)="INC",VLOOKUP(VALUE(RIGHT(C8,3)),'INC-COMP'!B:J,4,FALSE),IF(LEFT(C8,3)="ELE",VLOOKUP(VALUE(RIGHT(C8,3)),#REF!,4,FALSE),IF(LEFT(C8,3)="CAB",VLOOKUP(VALUE(RIGHT(C8,3)),#REF!,4,FALSE),IF(LEFT(C8,3)="SEG",VLOOKUP(VALUE(RIGHT(C8,3)),'SEG-COMP'!B:J,4,FALSE),IF(LEFT(C8,3)="CLI",VLOOKUP(VALUE(RIGHT(C8,3)),'CLI-COMP'!B:J,4,FALSE),IF(LEFT(C8,4)="IMPL",VLOOKUP(VALUE(RIGHT(C8,3)),'IMPL-COMP'!B:J,4,FALSE),IF(LEFT(C8,4)="SPDA",VLOOKUP(VALUE(RIGHT(C8,3)),'SPDA-COMP'!B:J,4,FALSE),IF(LEFT(C8,4)="SDAI",VLOOKUP(VALUE(RIGHT(C8,3)),'ADM-COMP'!B:J,4,FALSE),IF(LEFT(C8,5)="IMPER",VLOOKUP(VALUE(RIGHT(C8,3)),'IMPER-COMP'!B:J,4,FALSE),"")))))))))))))))) -> CORTE DE CAPOEIRA FINA, A FOICE (MANUAL) | E8: =IF(B8="IOPES",VLOOKUP(C8,'LABOR-SERVIÇOS'!A:H,6,FALSE),IF(B8="SINAPI",VLOOKUP(C8,'SINAPI-SERVIÇOS'!A:D,3,FALSE),IF(LEFT(C8,3)="ARQ",VLOOKUP(VALUE(RIGHT(C8,3)),'ARQ-COMP'!B:J,5,FALSE),IF(LEFT(C8,3)="SCI",VLOOKUP(VALUE(RIGHT(C8,3)),'GAS-COMP'!#REF!,5,FALSE),IF(LEFT(C8,3)="SCE",VLOOKUP(VALUE(RIGHT(C8,3)),'SCE-COMP'!B:J,5,FALSE),IF(LEFT(C8,3)="EST",VLOOKUP(VALUE(RIGHT(C8,3)),'EST-COMP'!B:J,5,FALSE),IF(LEFT(C8,3)="HID",VLOOKUP(VALUE(RIGHT(C8,3)),'HID-COMP'!B:J,5,FALSE),IF(LEFT(C8,3)="INC",VLOOKUP(VALUE(RIGHT(C8,3)),'INC-COMP'!B:J,5,FALSE),IF(LEFT(C8,3)="ELE",VLOOKUP(VALUE(RIGHT(C8,3)),#REF!,5,FALSE),IF(LEFT(C8,3)="CAB",VLOOKUP(VALUE(RIGHT(C8,3)),#REF!,5,FALSE),IF(LEFT(C8,3)="SEG",VLOOKUP(VALUE(RIGHT(C8,3)),'SEG-COMP'!B:J,5,FALSE),IF(LEFT(C8,3)="CLI",VLOOKUP(VALUE(RIGHT(C8,3)),'CLI-COMP'!B:J,5,FALSE),IF(LEFT(C8,4)="IMPL",VLOOKUP(VALUE(RIGHT(C8,3)),'IMPL-COMP'!B:J,5,FALSE),IF(LEFT(C8,4)="SPDA",VLOOKUP(VALUE(RIGHT(C8,3)),'SPDA-COMP'!B:J,5,FALSE),IF(LEFT(C8,4)="SDAI",VLOOKUP(VALUE(RIGHT(C8,3)),'ADM-COMP'!B:J,5,FALSE),IF(LEFT(C8,5)="IMPER",VLOOKUP(VALUE(RIGHT(C8,3)),'IMPER-COMP'!B:J,5,FALSE),"")))))))))))))))) -> M2 | F8: =ROUND(VLOOKUP(A8,'MEM-LEVANT'!A6:I2475,9,FALSE),2) -> 5355.9 | G8: =IF(B8="IOPES",VLOOKUP(C8,'LABOR-SERVIÇOS'!A:H,7,FALSE),IF(B8="SINAPI",VLOOKUP(C8,'SINAPI-SERVIÇOS'!A:H,8,FALSE),IF(LEFT(C8,3)="ARQ",VLOOKUP(VALUE(RIGHT(C8,3)),'ARQ-COMP'!B:J,9,FALSE),IF(LEFT(C8,3)="SCI",VLOOKUP(VALUE(RIGHT(C8,3)),'GAS-COMP'!#REF!,9,FALSE),IF(LEFT(C8,3)="SCE",VLOOKUP(VALUE(RIGHT(C8,3)),'SCE-COMP'!B:J,9,FALSE),IF(LEFT(C8,3)="EST",VLOOKUP(VALUE(RIGHT(C8,3)),'EST-COMP'!B:J,9,FALSE),IF(LEFT(C8,3)="HID",VLOOKUP(VALUE(RIGHT(C8,3)),'HID-COMP'!B:J,9,FALSE),IF(LEFT(C8,3)="INC",VLOOKUP(VALUE(RIGHT(C8,3)),'INC-COMP'!B:J,9,FALSE),IF(LEFT(C8,3)="ELE",VLOOKUP(VALUE(RIGHT(C8,3)),#REF!,9,FALSE),IF(LEFT(C8,3)="CAB",VLOOKUP(VALUE(RIGHT(C8,3)),#REF!,9,FALSE),IF(LEFT(C8,3)="SEG",VLOOKUP(VALUE(RIGHT(C8,3)),'SEG-COMP'!B:J,9,FALSE),IF(LEFT(C8,3)="CLI",VLOOKUP(VALUE(RIGHT(C8,3)),'CLI-COMP'!B:J,9,FALSE),IF(LEFT(C8,4)="IMPL",VLOOKUP(VALUE(RIGHT(C8,3)),'IMPL-COMP'!B:J,9,FALSE),IF(LEFT(C8,4)="SPDA",VLOOKUP(VALUE(RIGHT(C8,3)),'SPDA-COMP'!B:J,9,FALSE),IF(LEFT(C8,4)="SDAI",VLOOKUP(VALUE(RIGHT(C8,3)),'ADM-COMP'!B:J,9,FALSE),IF(LEFT(C8,5)="IMPER",VLOOKUP(VALUE(RIGHT(C8,3)),'IMPER-COMP'!B:J,9,FALSE),"")))))))))))))))) -> 2.03 | H8: =ROUND(F8*G8,2) -> 10872.48 | I8: =H8/$H$441 -> 0.00063570944
A9: 01.01.02 | B9: IOPES | C9: =10403 -> 10403 | D9: =IF(B9="IOPES",VLOOKUP(C9,'LABOR-SERVIÇOS'!A:H,5,FALSE),IF(B9="SINAPI",VLOOKUP(C9,'SINAPI-SERVIÇOS'!A:D,2,FALSE),IF(LEFT(C9,3)="ARQ",VLOOKUP(VALUE(RIGHT(C9,3)),'ARQ-COMP'!B:J,4,FALSE),IF(LEFT(C9,3)="SCI",VLOOKUP(VALUE(RIGHT(C9,3)),'GAS-COMP'!#REF!,4,FALSE),IF(LEFT(C9,3)="SCE",VLOOKUP(VALUE(RIGHT(C9,3)),'SCE-COMP'!B:J,4,FALSE),IF(LEFT(C9,3)="EST",VLOOKUP(VALUE(RIGHT(C9,3)),'EST-COMP'!B:J,4,FALSE),IF(LEFT(C9,3)="HID",VLOOKUP(VALUE(RIGHT(C9,3)),'HID-COMP'!B:J,4,FALSE),IF(LEFT(C9,3)="INC",VLOOKUP(VALUE(RIGHT(C9,3)),'INC-COMP'!B:J,4,FALSE),IF(LEFT(C9,3)="ELE",VLOOKUP(VALUE(RIGHT(C9,3)),#REF!,4,FALSE),IF(LEFT(C9,3)="CAB",VLOOKUP(VALUE(RIGHT(C9,3)),#REF!,4,FALSE),IF(LEFT(C9,3)="SEG",VLOOKUP(VALUE(RIGHT(C9,3)),'SEG-COMP'!B:J,4,FALSE),IF(LEFT(C9,3)="CLI",VLOOKUP(VALUE(RIGHT(C9,3)),'CLI-COMP'!B:J,4,FALSE),IF(LEFT(C9,4)="IMPL",VLOOKUP(VALUE(RIGHT(C9,3)),'IMPL-COMP'!B:J,4,FALSE),IF(LEFT(C9,4)="SPDA",VLOOKUP(VALUE(RIGHT(C9,3)),'SPDA-COMP'!B:J,4,FALSE),IF(LEFT(C9,4)="SDAI",VLOOKUP(VALUE(RIGHT(C9,3)),'ADM-COMP'!B:J,4,FALSE),IF(LEFT(C9,5)="IMPER",VLOOKUP(VALUE(RIGHT(C9,3)),'IMPER-COMP'!B:J,4,FALSE),"")))))))))))))))) -> CORTE E DESTOCAMENTO DE ÁRVORES COM DIÂMETRO DE ATÉ 15 CM | E9: =IF(B9="IOPES",VLOOKUP(C9,'LABOR-SERVIÇOS'!A:H,6,FALSE),IF(B9="SINAPI",VLOOKUP(C9,'SINAPI-SERVIÇOS'!A:D,3,FALSE),IF(LEFT(C9,3)="ARQ",VLOOKUP(VALUE(RIGHT(C9,3)),'ARQ-COMP'!B:J,5,FALSE),IF(LEFT(C9,3)="SCI",VLOOKUP(VALUE(RIGHT(C9,3)),'GAS-COMP'!#REF!,5,FALSE),IF(LEFT(C9,3)="SCE",VLOOKUP(VALUE(RIGHT(C9,3)),'SCE-COMP'!B:J,5,FALSE),IF(LEFT(C9,3)="EST",VLOOKUP(VALUE(RIGHT(C9,3)),'EST-COMP'!B:J,5,FALSE),IF(LEFT(C9,3)="HID",VLOOKUP(VALUE(RIGHT(C9,3)),'HID-COMP'!B:J,5,FALSE),IF(LEFT(C9,3)="INC",VLOOKUP(VALUE(RIGHT(C9,3)),'INC-COMP'!B:J,5,FALSE),IF(LEFT(C9,3)="ELE",VLOOKUP(VALUE(RIGHT(C9,3)),#REF!,5,FALSE),IF(LEFT(C9,3)="CAB",VLOOKUP(VALUE(RIGHT(C9,3)),#REF!,5,FALSE),IF(LEFT(C9,3)="SEG",VLOOKUP(VALUE(RIGHT(C9,3)),'SEG-COMP'!B:J,5,FALSE),IF(LEFT(C9,3)="CLI",VLOOKUP(VALUE(RIGHT(C9,3)),'CLI-COMP'!B:J,5,FALSE),IF(LEFT(C9,4)="IMPL",VLOOKUP(VALUE(RIGHT(C9,3)),'IMPL-COMP'!B:J,5,FALSE),IF(LEFT(C9,4)="SPDA",VLOOKUP(VALUE(RIGHT(C9,3)),'SPDA-COMP'!B:J,5,FALSE),IF(LEFT(C9,4)="SDAI",VLOOKUP(VALUE(RIGHT(C9,3)),'ADM-COMP'!B:J,5,FALSE),IF(LEFT(C9,5)="IMPER",VLOOKUP(VALUE(RIGHT(C9,3)),'IMPER-COMP'!B:J,5,FALSE),"")))))))))))))))) -> UND | F9: =ROUND(VLOOKUP(A9,'MEM-LEVANT'!A7:I2610,9,FALSE),2) -> 5 | G9: =IF(B9="IOPES",VLOOKUP(C9,'LABOR-SERVIÇOS'!A:H,7,FALSE),IF(B9="SINAPI",VLOOKUP(C9,'SINAPI-SERVIÇOS'!A:H,8,FALSE),IF(LEFT(C9,3)="ARQ",VLOOKUP(VALUE(RIGHT(C9,3)),'ARQ-COMP'!B:J,9,FALSE),IF(LEFT(C9,3)="SCI",VLOOKUP(VALUE(RIGHT(C9,3)),'GAS-COMP'!#REF!,9,FALSE),IF(LEFT(C9,3)="SCE",VLOOKUP(VALUE(RIGHT(C9,3)),'SCE-COMP'!B:J,9,FALSE),IF(LEFT(C9,3)="EST",VLOOKUP(VALUE(RIGHT(C9,3)),'EST-COMP'!B:J,9,FALSE),IF(LEFT(C9,3)="HID",VLOOKUP(VALUE(RIGHT(C9,3)),'HID-COMP'!B:J,9,FALSE),IF(LEFT(C9,3)="INC",VLOOKUP(VALUE(RIGHT(C9,3)),'INC-COMP'!B:J,9,FALSE),IF(LEFT(C9,3)="ELE",VLOOKUP(VALUE(RIGHT(C9,3)),#REF!,9,FALSE),IF(LEFT(C9,3)="CAB",VLOOKUP(VALUE(RIGHT(C9,3)),#REF!,9,FALSE),IF(LEFT(C9,3)="SEG",VLOOKUP(VALUE(RIGHT(C9,3)),'SEG-COMP'!B:J,9,FALSE),IF(LEFT(C9,3)="CLI",VLOOKUP(VALUE(RIGHT(C9,3)),'CLI-COMP'!B:J,9,FALSE),IF(LEFT(C9,4)="IMPL",VLOOKUP(VALUE(RIGHT(C9,3)),'IMPL-COMP'!B:J,9,FALSE),IF(LEFT(C9,4)="SPDA",VLOOKUP(VALUE(RIGHT(C9,3)),'SPDA-COMP'!B:J,9,FALSE),IF(LEFT(C9,4)="SDAI",VLOOKUP(VALUE(RIGHT(C9,3)),'ADM-COMP'!B:J,9,FALSE),IF(LEFT(C9,5)="IMPER",VLOOKUP(VALUE(RIGHT(C9,3)),'IMPER-COMP'!B:J,9,FALSE),"")))))))))))))))) -> 78.67 | H9: =ROUND(F9*G9,2) -> 393.35 | I9: =H9/$H$441 -> 2.2999013e-05
A10: 01.01.03 | B10: IOPES | C10: =10404 -> 10404 | D10: =IF(B10="IOPES",VLOOKUP(C10,'LABOR-SERVIÇOS'!A:H,5,FALSE),IF(B10="SINAPI",VLOOKUP(C10,'SINAPI-SERVIÇOS'!A:D,2,FALSE),IF(LEFT(C10,3)="ARQ",VLOOKUP(VALUE(RIGHT(C10,3)),'ARQ-COMP'!B:J,4,FALSE),IF(LEFT(C10,3)="SCI",VLOOKUP(VALUE(RIGHT(C10,3)),'GAS-COMP'!#REF!,4,FALSE),IF(LEFT(C10,3)="SCE",VLOOKUP(VALUE(RIGHT(C10,3)),'SCE-COMP'!B:J,4,FALSE),IF(LEFT(C10,3)="EST",VLOOKUP(VALUE(RIGHT(C10,3)),'EST-COMP'!B:J,4,FALSE),IF(LEFT(C10,3)="HID",VLOOKUP(VALUE(RIGHT(C10,3)),'HID-COMP'!B:J,4,FALSE),IF(LEFT(C10,3)="INC",VLOOKUP(VALUE(RIGHT(C10,3)),'INC-COMP'!B:J,4,FALSE),IF(LEFT(C10,3)="ELE",VLOOKUP(VALUE(RIGHT(C10,3)),#REF!,4,FALSE),IF(LEFT(C10,3)="CAB",VLOOKUP(VALUE(RIGHT(C10,3)),#REF!,4,FALSE),IF(LEFT(C10,3)="SEG",VLOOKUP(VALUE(RIGHT(C10,3)),'SEG-COMP'!B:J,4,FALSE),IF(LEFT(C10,3)="CLI",VLOOKUP(VALUE(RIGHT(C10,3)),'CLI-COMP'!B:J,4,FALSE),IF(LEFT(C10,4)="IMPL",VLOOKUP(VALUE(RIGHT(C10,3)),'IMPL-COMP'!B:J,4,FALSE),IF(LEFT(C10,4)="SPDA",VLOOKUP(VALUE(RIGHT(C10,3)),'SPDA-COMP'!B:J,4,FALSE),IF(LEFT(C10,4)="SDAI",VLOOKUP(VALUE(RIGHT(C10,3)),'ADM-COMP'!B:J,4,FALSE),IF(LEFT(C10,5)="IMPER",VLOOKUP(VALUE(RIGHT(C10,3)),'IMPER-COMP'!B:J,4,FALSE),"")))))))))))))))) -> CORTE E DESTOCAMENTO DE ÁRVORES COM DIÂMETRO SUPERIOR A 30 CM | E10: =IF(B10="IOPES",VLOOKUP(C10,'LABOR-SERVIÇOS'!A:H,6,FALSE),IF(B10="SINAPI",VLOOKUP(C10,'SINAPI-SERVIÇOS'!A:D,3,FALSE),IF(LEFT(C10,3)="ARQ",VLOOKUP(VALUE(RIGHT(C10,3)),'ARQ-COMP'!B:J,5,FALSE),IF(LEFT(C10,3)="SCI",VLOOKUP(VALUE(RIGHT(C10,3)),'GAS-COMP'!#REF!,5,FALSE),IF(LEFT(C10,3)="SCE",VLOOKUP(VALUE(RIGHT(C10,3)),'SCE-COMP'!B:J,5,FALSE),IF(LEFT(C10,3)="EST",VLOOKUP(VALUE(RIGHT(C10,3)),'EST-COMP'!B:J,5,FALSE),IF(LEFT(C10,3)="HID",VLOOKUP(VALUE(RIGHT(C10,3)),'HID-COMP'!B:J,5,FALSE),IF(LEFT(C10,3)="INC",VLOOKUP(VALUE(RIGHT(C10,3)),'INC-COMP'!B:J,5,FALSE),IF(LEFT(C10,3)="ELE",VLOOKUP(VALUE(RIGHT(C10,3)),#REF!,5,FALSE),IF(LEFT(C10,3)="CAB",VLOOKUP(VALUE(RIGHT(C10,3)),#REF!,5,FALSE),IF(LEFT(C10,3)="SEG",VLOOKUP(VALUE(RIGHT(C10,3)),'SEG-COMP'!B:J,5,FALSE),IF(LEFT(C10,3)="CLI",VLOOKUP(VALUE(RIGHT(C10,3)),'CLI-COMP'!B:J,5,FALSE),IF(LEFT(C10,4)="IMPL",VLOOKUP(VALUE(RIGHT(C10,3)),'IMPL-COMP'!B:J,5,FALSE),IF(LEFT(C10,4)="SPDA",VLOOKUP(VALUE(RIGHT(C10,3)),'SPDA-COMP'!B:J,5,FALSE),IF(LEFT(C10,4)="SDAI",VLOOKUP(VALUE(RIGHT(C10,3)),'ADM-COMP'!B:J,5,FALSE),IF(LEFT(C10,5)="IMPER",VLOOKUP(VALUE(RIGHT(C10,3)),'IMPER-COMP'!B:J,5,FALSE),"")))))))))))))))) -> UND | F10: =ROUND(VLOOKUP(A10,'MEM-LEVANT'!A8:I2611,9,FALSE),2) -> 1 | G10: =IF(B10="IOPES",VLOOKUP(C10,'LABOR-SERVIÇOS'!A:H,7,FALSE),IF(B10="SINAPI",VLOOKUP(C10,'SINAPI-SERVIÇOS'!A:H,8,FALSE),IF(LEFT(C10,3)="ARQ",VLOOKUP(VALUE(RIGHT(C10,3)),'ARQ-COMP'!B:J,9,FALSE),IF(LEFT(C10,3)="SCI",VLOOKUP(VALUE(RIGHT(C10,3)),'GAS-COMP'!#REF!,9,FALSE),IF(LEFT(C10,3)="SCE",VLOOKUP(VALUE(RIGHT(C10,3)),'SCE-COMP'!B:J,9,FALSE),IF(LEFT(C10,3)="EST",VLOOKUP(VALUE(RIGHT(C10,3)),'EST-COMP'!B:J,9,FALSE),IF(LEFT(C10,3)="HID",VLOOKUP(VALUE(RIGHT(C10,3)),'HID-COMP'!B:J,9,FALSE),IF(LEFT(C10,3)="INC",VLOOKUP(VALUE(RIGHT(C10,3)),'INC-COMP'!B:J,9,FALSE),IF(LEFT(C10,3)="ELE",VLOOKUP(VALUE(RIGHT(C10,3)),#REF!,9,FALSE),IF(LEFT(C10,3)="CAB",VLOOKUP(VALUE(RIGHT(C10,3)),#REF!,9,FALSE),IF(LEFT(C10,3)="SEG",VLOOKUP(VALUE(RIGHT(C10,3)),'SEG-COMP'!B:J,9,FALSE),IF(LEFT(C10,3)="CLI",VLOOKUP(VALUE(RIGHT(C10,3)),'CLI-COMP'!B:J,9,FALSE),IF(LEFT(C10,4)="IMPL",VLOOKUP(VALUE(RIGHT(C10,3)),'IMPL-COMP'!B:J,9,FALSE),IF(LEFT(C10,4)="SPDA",VLOOKUP(VALUE(RIGHT(C10,3)),'SPDA-COMP'!B:J,9,FALSE),IF(LEFT(C10,4)="SDAI",VLOOKUP(VALUE(RIGHT(C10,3)),'ADM-COMP'!B:J,9,FALSE),IF(LEFT(C10,5)="IMPER",VLOOKUP(VALUE(RIGHT(C10,3)),'IMPER-COMP'!B:J,9,FALSE),"")))))))))))))))) -> 195.62 | H10: =ROUND(F10*G10,2) -> 195.62 | I10: =H10/$H$441 -> 1.1437821e-05
A11: 01.01.04 | B11: SINAPI | C11: 100575 | D11: =IF(B11="IOPES",VLOOKUP(C11,'LABOR-SERVIÇOS'!A:H,5,FALSE),IF(B11="SINAPI",VLOOKUP(C11,'SINAPI-SERVIÇOS'!A:D,2,FALSE),IF(LEFT(C11,3)="ARQ",VLOOKUP(VALUE(RIGHT(C11,3)),'ARQ-COMP'!B:J,4,FALSE),IF(LEFT(C11,3)="SCI",VLOOKUP(VALUE(RIGHT(C11,3)),'GAS-COMP'!#REF!,4,FALSE),IF(LEFT(C11,3)="SCE",VLOOKUP(VALUE(RIGHT(C11,3)),'SCE-COMP'!B:J,4,FALSE),IF(LEFT(C11,3)="EST",VLOOKUP(VALUE(RIGHT(C11,3)),'EST-COMP'!B:J,4,FALSE),IF(LEFT(C11,3)="HID",VLOOKUP(VALUE(RIGHT(C11,3)),'HID-COMP'!B:J,4,FALSE),IF(LEFT(C11,3)="INC",VLOOKUP(VALUE(RIGHT(C11,3)),'INC-COMP'!B:J,4,FALSE),IF(LEFT(C11,3)="ELE",VLOOKUP(VALUE(RIGHT(C11,3)),#REF!,4,FALSE),IF(LEFT(C11,3)="CAB",VLOOKUP(VALUE(RIGHT(C11,3)),#REF!,4,FALSE),IF(LEFT(C11,3)="SEG",VLOOKUP(VALUE(RIGHT(C11,3)),'SEG-COMP'!B:J,4,FALSE),IF(LEFT(C11,3)="CLI",VLOOKUP(VALUE(RIGHT(C11,3)),'CLI-COMP'!B:J,4,FALSE),IF(LEFT(C11,4)="IMPL",VLOOKUP(VALUE(RIGHT(C11,3)),'IMPL-COMP'!B:J,4,FALSE),IF(LEFT(C11,4)="SPDA",VLOOKUP(VALUE(RIGHT(C11,3)),'SPDA-COMP'!B:J,4,FALSE),IF(LEFT(C11,4)="SDAI",VLOOKUP(VALUE(RIGHT(C11,3)),'ADM-COMP'!B:J,4,FALSE),IF(LEFT(C11,5)="IMPER",VLOOKUP(VALUE(RIGHT(C11,3)),'IMPER-COMP'!B:J,4,FALSE),"")))))))))))))))) -> REGULARIZAÇÃO DE SUPERFÍCIES COM MOTONIVELADORA. AF_09/2024 | E11: =IF(B11="IOPES",VLOOKUP(C11,'LABOR-SERVIÇOS'!A:H,6,FALSE),IF(B11="SINAPI",VLOOKUP(C11,'SINAPI-SERVIÇOS'!A:D,3,FALSE),IF(LEFT(C11,3)="ARQ",VLOOKUP(VALUE(RIGHT(C11,3)),'ARQ-COMP'!B:J,5,FALSE),IF(LEFT(C11,3)="SCI",VLOOKUP(VALUE(RIGHT(C11,3)),'GAS-COMP'!#REF!,5,FALSE),IF(LEFT(C11,3)="SCE",VLOOKUP(VALUE(RIGHT(C11,3)),'SCE-COMP'!B:J,5,FALSE),IF(LEFT(C11,3)="EST",VLOOKUP(VALUE(RIGHT(C11,3)),'EST-COMP'!B:J,5,FALSE),IF(LEFT(C11,3)="HID",VLOOKUP(VALUE(RIGHT(C11,3)),'HID-COMP'!B:J,5,FALSE),IF(LEFT(C11,3)="INC",VLOOKUP(VALUE(RIGHT(C11,3)),'INC-COMP'!B:J,5,FALSE),IF(LEFT(C11,3)="ELE",VLOOKUP(VALUE(RIGHT(C11,3)),#REF!,5,FALSE),IF(LEFT(C11,3)="CAB",VLOOKUP(VALUE(RIGHT(C11,3)),#REF!,5,FALSE),IF(LEFT(C11,3)="SEG",VLOOKUP(VALUE(RIGHT(C11,3)),'SEG-COMP'!B:J,5,FALSE),IF(LEFT(C11,3)="CLI",VLOOKUP(VALUE(RIGHT(C11,3)),'CLI-COMP'!B:J,5,FALSE),IF(LEFT(C11,4)="IMPL",VLOOKUP(VALUE(RIGHT(C11,3)),'IMPL-COMP'!B:J,5,FALSE),IF(LEFT(C11,4)="SPDA",VLOOKUP(VALUE(RIGHT(C11,3)),'SPDA-COMP'!B:J,5,FALSE),IF(LEFT(C11,4)="SDAI",VLOOKUP(VALUE(RIGHT(C11,3)),'ADM-COMP'!B:J,5,FALSE),IF(LEFT(C11,5)="IMPER",VLOOKUP(VALUE(RIGHT(C11,3)),'IMPER-COMP'!B:J,5,FALSE),"")))))))))))))))) -> M2 | F11: =ROUND(VLOOKUP(A11,'MEM-LEVANT'!A9:I2612,9,FALSE),2) -> 5355.9 | G11: =IF(B11="IOPES",VLOOKUP(C11,'LABOR-SERVIÇOS'!A:H,7,FALSE),IF(B11="SINAPI",VLOOKUP(C11,'SINAPI-SERVIÇOS'!A:H,8,FALSE),IF(LEFT(C11,3)="ARQ",VLOOKUP(VALUE(RIGHT(C11,3)),'ARQ-COMP'!B:J,9,FALSE),IF(LEFT(C11,3)="SCI",VLOOKUP(VALUE(RIGHT(C11,3)),'GAS-COMP'!#REF!,9,FALSE),IF(LEFT(C11,3)="SCE",VLOOKUP(VALUE(RIGHT(C11,3)),'SCE-COMP'!B:J,9,FALSE),IF(LEFT(C11,3)="EST",VLOOKUP(VALUE(RIGHT(C11,3)),'EST-COMP'!B:J,9,FALSE),IF(LEFT(C11,3)="HID",VLOOKUP(VALUE(RIGHT(C11,3)),'HID-COMP'!B:J,9,FALSE),IF(LEFT(C11,3)="INC",VLOOKUP(VALUE(RIGHT(C11,3)),'INC-COMP'!B:J,9,FALSE),IF(LEFT(C11,3)="ELE",VLOOKUP(VALUE(RIGHT(C11,3)),#REF!,9,FALSE),IF(LEFT(C11,3)="CAB",VLOOKUP(VALUE(RIGHT(C11,3)),#REF!,9,FALSE),IF(LEFT(C11,3)="SEG",VLOOKUP(VALUE(RIGHT(C11,3)),'SEG-COMP'!B:J,9,FALSE),IF(LEFT(C11,3)="CLI",VLOOKUP(VALUE(RIGHT(C11,3)),'CLI-COMP'!B:J,9,FALSE),IF(LEFT(C11,4)="IMPL",VLOOKUP(VALUE(RIGHT(C11,3)),'IMPL-COMP'!B:J,9,FALSE),IF(LEFT(C11,4)="SPDA",VLOOKUP(VALUE(RIGHT(C11,3)),'SPDA-COMP'!B:J,9,FALSE),IF(LEFT(C11,4)="SDAI",VLOOKUP(VALUE(RIGHT(C11,3)),'ADM-COMP'!B:J,9,FALSE),IF(LEFT(C11,5)="IMPER",VLOOKUP(VALUE(RIGHT(C11,3)),'IMPER-COMP'!B:J,9,FALSE),"")))))))))))))))) -> 2.59 | H11: =ROUND(F11*G11,2) -> 13871.78 | I11: =H11/$H$441 -> 0.00081107728
A12: 01.02 | D12: LOCAÇÃO
A13: 01.02.01 | B13: IOPES | C13: =10501 -> 10501 | D13: =IF(B13="IOPES",VLOOKUP(C13,'LABOR-SERVIÇOS'!A:H,5,FALSE),IF(B13="SINAPI",VLOOKUP(C13,'SINAPI-SERVIÇOS'!A:D,2,FALSE),IF(LEFT(C13,3)="ARQ",VLOOKUP(VALUE(RIGHT(C13,3)),'ARQ-COMP'!B:J,4,FALSE),IF(LEFT(C13,3)="SCI",VLOOKUP(VALUE(RIGHT(C13,3)),'GAS-COMP'!#REF!,4,FALSE),IF(LEFT(C13,3)="SCE",VLOOKUP(VALUE(RIGHT(C13,3)),'SCE-COMP'!B:J,4,FALSE),IF(LEFT(C13,3)="EST",VLOOKUP(VALUE(RIGHT(C13,3)),'EST-COMP'!B:J,4,FALSE),IF(LEFT(C13,3)="HID",VLOOKUP(VALUE(RIGHT(C13,3)),'HID-COMP'!B:J,4,FALSE),IF(LEFT(C13,3)="INC",VLOOKUP(VALUE(RIGHT(C13,3)),'INC-COMP'!B:J,4,FALSE),IF(LEFT(C13,3)="ELE",VLOOKUP(VALUE(RIGHT(C13,3)),#REF!,4,FALSE),IF(LEFT(C13,3)="CAB",VLOOKUP(VALUE(RIGHT(C13,3)),#REF!,4,FALSE),IF(LEFT(C13,3)="SEG",VLOOKUP(VALUE(RIGHT(C13,3)),'SEG-COMP'!B:J,4,FALSE),IF(LEFT(C13,3)="CLI",VLOOKUP(VALUE(RIGHT(C13,3)),'CLI-COMP'!B:J,4,FALSE),IF(LEFT(C13,4)="IMPL",VLOOKUP(VALUE(RIGHT(C13,3)),'IMPL-COMP'!B:J,4,FALSE),IF(LEFT(C13,4)="SPDA",VLOOKUP(VALUE(RIGHT(C13,3)),'SPDA-COMP'!B:J,4,FALSE),IF(LEFT(C13,4)="SDAI",VLOOKUP(VALUE(RIGHT(C13,3)),'ADM-COMP'!B:J,4,FALSE),IF(LEFT(C13,5)="IMPER",VLOOKUP(VALUE(RIGHT(C13,3)),'IMPER-COMP'!B:J,4,FALSE),"")))))))))))))))) -> LOCAÇÃO DE OBRA COM GABARITO DE MADEIRA | E13: =IF(B13="IOPES",VLOOKUP(C13,'LABOR-SERVIÇOS'!A:H,6,FALSE),IF(B13="SINAPI",VLOOKUP(C13,'SINAPI-SERVIÇOS'!A:D,3,FALSE),IF(LEFT(C13,3)="ARQ",VLOOKUP(VALUE(RIGHT(C13,3)),'ARQ-COMP'!B:J,5,FALSE),IF(LEFT(C13,3)="SCI",VLOOKUP(VALUE(RIGHT(C13,3)),'GAS-COMP'!#REF!,5,FALSE),IF(LEFT(C13,3)="SCE",VLOOKUP(VALUE(RIGHT(C13,3)),'SCE-COMP'!B:J,5,FALSE),IF(LEFT(C13,3)="EST",VLOOKUP(VALUE(RIGHT(C13,3)),'EST-COMP'!B:J,5,FALSE),IF(LEFT(C13,3)="HID",VLOOKUP(VALUE(RIGHT(C13,3)),'HID-COMP'!B:J,5,FALSE),IF(LEFT(C13,3)="INC",VLOOKUP(VALUE(RIGHT(C13,3)),'INC-COMP'!B:J,5,FALSE),IF(LEFT(C13,3)="ELE",VLOOKUP(VALUE(RIGHT(C13,3)),#REF!,5,FALSE),IF(LEFT(C13,3)="CAB",VLOOKUP(VALUE(RIGHT(C13,3)),#REF!,5,FALSE),IF(LEFT(C13,3)="SEG",VLOOKUP(VALUE(RIGHT(C13,3)),'SEG-COMP'!B:J,5,FALSE),IF(LEFT(C13,3)="CLI",VLOOKUP(VALUE(RIGHT(C13,3)),'CLI-COMP'!B:J,5,FALSE),IF(LEFT(C13,4)="IMPL",VLOOKUP(VALUE(RIGHT(C13,3)),'IMPL-COMP'!B:J,5,FALSE),IF(LEFT(C13,4)="SPDA",VLOOKUP(VALUE(RIGHT(C13,3)),'SPDA-COMP'!B:J,5,FALSE),IF(LEFT(C13,4)="SDAI",VLOOKUP(VALUE(RIGHT(C13,3)),'ADM-COMP'!B:J,5,FALSE),IF(LEFT(C13,5)="IMPER",VLOOKUP(VALUE(RIGHT(C13,3)),'IMPER-COMP'!B:J,5,FALSE),"")))))))))))))))) -> M2 | F13: =ROUND(VLOOKUP(A13,'MEM-LEVANT'!A8:I2611,9,FALSE),2) -> 1502.79 | G13: =IF(B13="IOPES",VLOOKUP(C13,'LABOR-SERVIÇOS'!A:H,7,FALSE),IF(B13="SINAPI",VLOOKUP(C13,'SINAPI-SERVIÇOS'!A:H,8,FALSE),IF(LEFT(C13,3)="ARQ",VLOOKUP(VALUE(RIGHT(C13,3)),'ARQ-COMP'!B:J,9,FALSE),IF(LEFT(C13,3)="SCI",VLOOKUP(VALUE(RIGHT(C13,3)),'GAS-COMP'!#REF!,9,FALSE),IF(LEFT(C13,3)="SCE",VLOOKUP(VALUE(RIGHT(C13,3)),'SCE-COMP'!B:J,9,FALSE),IF(LEFT(C13,3)="EST",VLOOKUP(VALUE(RIGHT(C13,3)),'EST-COMP'!B:J,9,FALSE),IF(LEFT(C13,3)="HID",VLOOKUP(VALUE(RIGHT(C13,3)),'HID-COMP'!B:J,9,FALSE),IF(LEFT(C13,3)="INC",VLOOKUP(VALUE(RIGHT(C13,3)),'INC-COMP'!B:J,9,FALSE),IF(LEFT(C13,3)="ELE",VLOOKUP(VALUE(RIGHT(C13,3)),#REF!,9,FALSE),IF(LEFT(C13,3)="CAB",VLOOKUP(VALUE(RIGHT(C13,3)),#REF!,9,FALSE),IF(LEFT(C13,3)="SEG",VLOOKUP(VALUE(RIGHT(C13,3)),'SEG-COMP'!B:J,9,FALSE),IF(LEFT(C13,3)="CLI",VLOOKUP(VALUE(RIGHT(C13,3)),'CLI-COMP'!B:J,9,FALSE),IF(LEFT(C13,4)="IMPL",VLOOKUP(VALUE(RIGHT(C13,3)),'IMPL-COMP'!B:J,9,FALSE),IF(LEFT(C13,4)="SPDA",VLOOKUP(VALUE(RIGHT(C13,3)),'SPDA-COMP'!B:J,9,FALSE),IF(LEFT(C13,4)="SDAI",VLOOKUP(VALUE(RIGHT(C13,3)),'ADM-COMP'!B:J,9,FALSE),IF(LEFT(C13,5)="IMPER",VLOOKUP(VALUE(RIGHT(C13,3)),'IMPER-COMP'!B:J,9,FALSE),"")))))))))))))))) -> 14.8 | H13: =ROUND(F13*G13,2) -> 22241.29 | I13: =H13/$H$441 -> 0.0013004391
A14: 01.02.02 | B14: IOPES | C14: =10512 -> 10512 | D14: =IF(B14="IOPES",VLOOKUP(C14,'LABOR-SERVIÇOS'!A:H,5,FALSE),IF(B14="SINAPI",VLOOKUP(C14,'SINAPI-SERVIÇOS'!A:D,2,FALSE),IF(LEFT(C14,3)="ARQ",VLOOKUP(VALUE(RIGHT(C14,3)),'ARQ-COMP'!B:J,4,FALSE),IF(LEFT(C14,3)="SCI",VLOOKUP(VALUE(RIGHT(C14,3)),'GAS-COMP'!#REF!,4,FALSE),IF(LEFT(C14,3)="SCE",VLOOKUP(VALUE(RIGHT(C14,3)),'SCE-COMP'!B:J,4,FALSE),IF(LEFT(C14,3)="EST",VLOOKUP(VALUE(RIGHT(C14,3)),'EST-COMP'!B:J,4,FALSE),IF(LEFT(C14,3)="HID",VLOOKUP(VALUE(RIGHT(C14,3)),'HID-COMP'!B:J,4,FALSE),IF(LEFT(C14,3)="INC",VLOOKUP(VALUE(RIGHT(C14,3)),'INC-COMP'!B:J,4,FALSE),IF(LEFT(C14,3)="ELE",VLOOKUP(VALUE(RIGHT(C14,3)),#REF!,4,FALSE),IF(LEFT(C14,3)="CAB",VLOOKUP(VALUE(RIGHT(C14,3)),#REF!,4,FALSE),IF(LEFT(C14,3)="SEG",VLOOKUP(VALUE(RIGHT(C14,3)),'SEG-COMP'!B:J,4,FALSE),IF(LEFT(C14,3)="CLI",VLOOKUP(VALUE(RIGHT(C14,3)),'CLI-COMP'!B:J,4,FALSE),IF(LEFT(C14,4)="IMPL",VLOOKUP(VALUE(RIGHT(C14,3)),'IMPL-COMP'!B:J,4,FALSE),IF(LEFT(C14,4)="SPDA",VLOOKUP(VALUE(RIGHT(C14,3)),'SPDA-COMP'!B:J,4,FALSE),IF(LEFT(C14,4)="SDAI",VLOOKUP(VALUE(RIGHT(C14,3)),'ADM-COMP'!B:J,4,FALSE),IF(LEFT(C14,5)="IMPER",VLOOKUP(VALUE(RIGHT(C14,3)),'IMPER-COMP'!B:J,4,FALSE),"")))))))))))))))) -> EQUIPE TOPOGRÁFICA PARA SERVIÇOS SIMPLES DE LOCAÇÃO E NIVELAMENTO (INCLUINDO EQUIPAMENTO, TRANSPORTE E PROFISSIONAIS NIVEL MÉDIO) | E14: =IF(B14="IOPES",VLOOKUP(C14,'LABOR-SERVIÇOS'!A:H,6,FALSE),IF(B14="SINAPI",VLOOKUP(C14,'SINAPI-SERVIÇOS'!A:D,3,FALSE),IF(LEFT(C14,3)="ARQ",VLOOKUP(VALUE(RIGHT(C14,3)),'ARQ-COMP'!B:J,5,FALSE),IF(LEFT(C14,3)="SCI",VLOOKUP(VALUE(RIGHT(C14,3)),'GAS-COMP'!#REF!,5,FALSE),IF(LEFT(C14,3)="SCE",VLOOKUP(VALUE(RIGHT(C14,3)),'SCE-COMP'!B:J,5,FALSE),IF(LEFT(C14,3)="EST",VLOOKUP(VALUE(RIGHT(C14,3)),'EST-COMP'!B:J,5,FALSE),IF(LEFT(C14,3)="HID",VLOOKUP(VALUE(RIGHT(C14,3)),'HID-COMP'!B:J,5,FALSE),IF(LEFT(C14,3)="INC",VLOOKUP(VALUE(RIGHT(C14,3)),'INC-COMP'!B:J,5,FALSE),IF(LEFT(C14,3)="ELE",VLOOKUP(VALUE(RIGHT(C14,3)),#REF!,5,FALSE),IF(LEFT(C14,3)="CAB",VLOOKUP(VALUE(RIGHT(C14,3)),#REF!,5,FALSE),IF(LEFT(C14,3)="SEG",VLOOKUP(VALUE(RIGHT(C14,3)),'SEG-COMP'!B:J,5,FALSE),IF(LEFT(C14,3)="CLI",VLOOKUP(VALUE(RIGHT(C14,3)),'CLI-COMP'!B:J,5,FALSE),IF(LEFT(C14,4)="IMPL",VLOOKUP(VALUE(RIGHT(C14,3)),'IMPL-COMP'!B:J,5,FALSE),IF(LEFT(C14,4)="SPDA",VLOOKUP(VALUE(RIGHT(C14,3)),'SPDA-COMP'!B:J,5,FALSE),IF(LEFT(C14,4)="SDAI",VLOOKUP(VALUE(RIGHT(C14,3)),'ADM-COMP'!B:J,5,FALSE),IF(LEFT(C14,5)="IMPER",VLOOKUP(VALUE(RIGHT(C14,3)),'IMPER-COMP'!B:J,5,FALSE),"")))))))))))))))) -> MÊS | F14: =ROUND(VLOOKUP(A14,'MEM-LEVANT'!A9:I2612,9,FALSE),2) -> 0.35 | G14: =IF(B14="IOPES",VLOOKUP(C14,'LABOR-SERVIÇOS'!A:H,7,FALSE),IF(B14="SINAPI",VLOOKUP(C14,'SINAPI-SERVIÇOS'!A:H,8,FALSE),IF(LEFT(C14,3)="ARQ",VLOOKUP(VALUE(RIGHT(C14,3)),'ARQ-COMP'!B:J,9,FALSE),IF(LEFT(C14,3)="SCI",VLOOKUP(VALUE(RIGHT(C14,3)),'GAS-COMP'!#REF!,9,FALSE),IF(LEFT(C14,3)="SCE",VLOOKUP(VALUE(RIGHT(C14,3)),'SCE-COMP'!B:J,9,FALSE),IF(LEFT(C14,3)="EST",VLOOKUP(VALUE(RIGHT(C14,3)),'EST-COMP'!B:J,9,FALSE),IF(LEFT(C14,3)="HID",VLOOKUP(VALUE(RIGHT(C14,3)),'HID-COMP'!B:J,9,FALSE),IF(LEFT(C14,3)="INC",VLOOKUP(VALUE(RIGHT(C14,3)),'INC-COMP'!B:J,9,FALSE),IF(LEFT(C14,3)="ELE",VLOOKUP(VALUE(RIGHT(C14,3)),#REF!,9,FALSE),IF(LEFT(C14,3)="CAB",VLOOKUP(VALUE(RIGHT(C14,3)),#REF!,9,FALSE),IF(LEFT(C14,3)="SEG",VLOOKUP(VALUE(RIGHT(C14,3)),'SEG-COMP'!B:J,9,FALSE),IF(LEFT(C14,3)="CLI",VLOOKUP(VALUE(RIGHT(C14,3)),'CLI-COMP'!B:J,9,FALSE),IF(LEFT(C14,4)="IMPL",VLOOKUP(VALUE(RIGHT(C14,3)),'IMPL-COMP'!B:J,9,FALSE),IF(LEFT(C14,4)="SPDA",VLOOKUP(VALUE(RIGHT(C14,3)),'SPDA-COMP'!B:J,9,FALSE),IF(LEFT(C14,4)="SDAI",VLOOKUP(VALUE(RIGHT(C14,3)),'ADM-COMP'!B:J,9,FALSE),IF(LEFT(C14,5)="IMPER",VLOOKUP(VALUE(RIGHT(C14,3)),'IMPER-COMP'!B:J,9,FALSE),"")))))))))))))))) -> 31160.37 | H14: =ROUND(F14*G14,2) -> 10906.13 | I14: =H14/$H$441 -> 0.00063767694
A15: 01.03 | D15: INSTALAÇÃO DO CANTEIRO DE OBRAS
A16: 01.03.01 | B16: IOPES | C16: =20305 -> 20305 | D16: =IF(B16="IOPES",VLOOKUP(C16,'LABOR-SERVIÇOS'!A:H,5,FALSE),IF(B16="SINAPI",VLOOKUP(C16,'SINAPI-SERVIÇOS'!A:D,2,FALSE),IF(LEFT(C16,3)="ARQ",VLOOKUP(VALUE(RIGHT(C16,3)),'ARQ-COMP'!B:J,4,FALSE),IF(LEFT(C16,3)="SCI",VLOOKUP(VALUE(RIGHT(C16,3)),'GAS-COMP'!#REF!,4,FALSE),IF(LEFT(C16,3)="SCE",VLOOKUP(VALUE(RIGHT(C16,3)),'SCE-COMP'!B:J,4,FALSE),IF(LEFT(C16,3)="EST",VLOOKUP(VALUE(RIGHT(C16,3)),'EST-COMP'!B:J,4,FALSE),IF(LEFT(C16,3)="HID",VLOOKUP(VALUE(RIGHT(C16,3)),'HID-COMP'!B:J,4,FALSE),IF(LEFT(C16,3)="INC",VLOOKUP(VALUE(RIGHT(C16,3)),'INC-COMP'!B:J,4,FALSE),IF(LEFT(C16,3)="ELE",VLOOKUP(VALUE(RIGHT(C16,3)),#REF!,4,FALSE),IF(LEFT(C16,3)="CAB",VLOOKUP(VALUE(RIGHT(C16,3)),#REF!,4,FALSE),IF(LEFT(C16,3)="SEG",VLOOKUP(VALUE(RIGHT(C16,3)),'SEG-COMP'!B:J,4,FALSE),IF(LEFT(C16,3)="CLI",VLOOKUP(VALUE(RIGHT(C16,3)),'CLI-COMP'!B:J,4,FALSE),IF(LEFT(C16,4)="IMPL",VLOOKUP(VALUE(RIGHT(C16,3)),'IMPL-COMP'!B:J,4,FALSE),IF(LEFT(C16,4)="SPDA",VLOOKUP(VALUE(RIGHT(C16,3)),'SPDA-COMP'!B:J,4,FALSE),IF(LEFT(C16,4)="SDAI",VLOOKUP(VALUE(RIGHT(C16,3)),'ADM-COMP'!B:J,4,FALSE),IF(LEFT(C16,5)="IMPER",VLOOKUP(VALUE(RIGHT(C16,3)),'IMPER-COMP'!B:J,4,FALSE),"")))))))))))))))) -> PLACA DE OBRA NAS DIMENSÕES DE 2.0 X 4.0 M, PADRÃO DER | E16: =IF(B16="IOPES",VLOOKUP(C16,'LABOR-SERVIÇOS'!A:H,6,FALSE),IF(B16="SINAPI",VLOOKUP(C16,'SINAPI-SERVIÇOS'!A:D,3,FALSE),IF(LEFT(C16,3)="ARQ",VLOOKUP(VALUE(RIGHT(C16,3)),'ARQ-COMP'!B:J,5,FALSE),IF(LEFT(C16,3)="SCI",VLOOKUP(VALUE(RIGHT(C16,3)),'GAS-COMP'!#REF!,5,FALSE),IF(LEFT(C16,3)="SCE",VLOOKUP(VALUE(RIGHT(C16,3)),'SCE-COMP'!B:J,5,FALSE),IF(LEFT(C16,3)="EST",VLOOKUP(VALUE(RIGHT(C16,3)),'EST-COMP'!B:J,5,FALSE),IF(LEFT(C16,3)="HID",VLOOKUP(VALUE(RIGHT(C16,3)),'HID-COMP'!B:J,5,FALSE),IF(LEFT(C16,3)="INC",VLOOKUP(VALUE(RIGHT(C16,3)),'INC-COMP'!B:J,5,FALSE),IF(LEFT(C16,3)="ELE",VLOOKUP(VALUE(RIGHT(C16,3)),#REF!,5,FALSE),IF(LEFT(C16,3)="CAB",VLOOKUP(VALUE(RIGHT(C16,3)),#REF!,5,FALSE),IF(LEFT(C16,3)="SEG",VLOOKUP(VALUE(RIGHT(C16,3)),'SEG-COMP'!B:J,5,FALSE),IF(LEFT(C16,3)="CLI",VLOOKUP(VALUE(RIGHT(C16,3)),'CLI-COMP'!B:J,5,FALSE),IF(LEFT(C16,4)="IMPL",VLOOKUP(VALUE(RIGHT(C16,3)),'IMPL-COMP'!B:J,5,FALSE),IF(LEFT(C16,4)="SPDA",VLOOKUP(VALUE(RIGHT(C16,3)),'SPDA-COMP'!B:J,5,FALSE),IF(LEFT(C16,4)="SDAI",VLOOKUP(VALUE(RIGHT(C16,3)),'ADM-COMP'!B:J,5,FALSE),IF(LEFT(C16,5)="IMPER",VLOOKUP(VALUE(RIGHT(C16,3)),'IMPER-COMP'!B:J,5,FALSE),"")))))))))))))))) -> M2 | F16: =ROUND(VLOOKUP(A16,'MEM-LEVANT'!A11:I2614,9,FALSE),2) -> 8 | G16: =IF(B16="IOPES",VLOOKUP(C16,'LABOR-SERVIÇOS'!A:H,7,FALSE),IF(B16="SINAPI",VLOOKUP(C16,'SINAPI-SERVIÇOS'!A:H,8,FALSE),IF(LEFT(C16,3)="ARQ",VLOOKUP(VALUE(RIGHT(C16,3)),'ARQ-COMP'!B:J,9,FALSE),IF(LEFT(C16,3)="SCI",VLOOKUP(VALUE(RIGHT(C16,3)),'GAS-COMP'!#REF!,9,FALSE),IF(LEFT(C16,3)="SCE",VLOOKUP(VALUE(RIGHT(C16,3)),'SCE-COMP'!B:J,9,FALSE),IF(LEFT(C16,3)="EST",VLOOKUP(VALUE(RIGHT(C16,3)),'EST-COMP'!B:J,9,FALSE),IF(LEFT(C16,3)="HID",VLOOKUP(VALUE(RIGHT(C16,3)),'HID-COMP'!B:J,9,FALSE),IF(LEFT(C16,3)="INC",VLOOKUP(VALUE(RIGHT(C16,3)),'INC-COMP'!B:J,9,FALSE),IF(LEFT(C16,3)="ELE",VLOOKUP(VALUE(RIGHT(C16,3)),#REF!,9,FALSE),IF(LEFT(C16,3)="CAB",VLOOKUP(VALUE(RIGHT(C16,3)),#REF!,9,FALSE),IF(LEFT(C16,3)="SEG",VLOOKUP(VALUE(RIGHT(C16,3)),'SEG-COMP'!B:J,9,FALSE),IF(LEFT(C16,3)="CLI",VLOOKUP(VALUE(RIGHT(C16,3)),'CLI-COMP'!B:J,9,FALSE),IF(LEFT(C16,4)="IMPL",VLOOKUP(VALUE(RIGHT(C16,3)),'IMPL-COMP'!B:J,9,FALSE),IF(LEFT(C16,4)="SPDA",VLOOKUP(VALUE(RIGHT(C16,3)),'SPDA-COMP'!B:J,9,FALSE),IF(LEFT(C16,4)="SDAI",VLOOKUP(VALUE(RIGHT(C16,3)),'ADM-COMP'!B:J,9,FALSE),IF(LEFT(C16,5)="IMPER",VLOOKUP(VALUE(RIGHT(C16,3)),'IMPER-COMP'!B:J,9,FALSE),"")))))))))))))))) -> 392.81 | H16: =ROUND(F16*G16,2) -> 3142.48 | I16: =H16/$H$441 -> 0.00018373952
A17: 01.03.02 | B17: IOPES | C17: =20350 -> 20350 | D17: =IF(B17="IOPES",VLOOKUP(C17,'LABOR-SERVIÇOS'!A:H,5,FALSE),IF(B17="SINAPI",VLOOKUP(C17,'SINAPI-SERVIÇOS'!A:D,2,FALSE),IF(LEFT(C17,3)="ARQ",VLOOKUP(VALUE(RIGHT(C17,3)),'ARQ-COMP'!B:J,4,FALSE),IF(LEFT(C17,3)="SCI",VLOOKUP(VALUE(RIGHT(C17,3)),'GAS-COMP'!#REF!,4,FALSE),IF(LEFT(C17,3)="SCE",VLOOKUP(VALUE(RIGHT(C17,3)),'SCE-COMP'!B:J,4,FALSE),IF(LEFT(C17,3)="EST",VLOOKUP(VALUE(RIGHT(C17,3)),'EST-COMP'!B:J,4,FALSE),IF(LEFT(C17,3)="HID",VLOOKUP(VALUE(RIGHT(C17,3)),'HID-COMP'!B:J,4,FALSE),IF(LEFT(C17,3)="INC",VLOOKUP(VALUE(RIGHT(C17,3)),'INC-COMP'!B:J,4,FALSE),IF(LEFT(C17,3)="ELE",VLOOKUP(VALUE(RIGHT(C17,3)),#REF!,4,FALSE),IF(LEFT(C17,3)="CAB",VLOOKUP(VALUE(RIGHT(C17,3)),#REF!,4,FALSE),IF(LEFT(C17,3)="SEG",VLOOKUP(VALUE(RIGHT(C17,3)),'SEG-COMP'!B:J,4,FALSE),IF(LEFT(C17,3)="CLI",VLOOKUP(VALUE(RIGHT(C17,3)),'CLI-COMP'!B:J,4,FALSE),IF(LEFT(C17,4)="IMPL",VLOOKUP(VALUE(RIGHT(C17,3)),'IMPL-COMP'!B:J,4,FALSE),IF(LEFT(C17,4)="SPDA",VLOOKUP(VALUE(RIGHT(C17,3)),'SPDA-COMP'!B:J,4,FALSE),IF(LEFT(C17,4)="SDAI",VLOOKUP(VALUE(RIGHT(C17,3)),'ADM-COMP'!B:J,4,FALSE),IF(LEFT(C17,5)="IMPER",VLOOKUP(VALUE(RIGHT(C17,3)),'IMPER-COMP'!B:J,4,FALSE),"")))))))))))))))) -> TAPUME TELHA METÁLICA ONDULADA EM AÇO GALVALUME 0,50MM BRANCA H=2,20M, INCL. MONTAGEM ESTR. MAD. 8"X8", C/ADESIVO "DER-ES" 60X60CM A CADA 10M, INCL. FAIXAS PINT. ESMALTE SINT. CORES AZUL C/ H=30CM E ROSA C/ H=10CM (REAPROVEITAMENTO 2X) | E17: =IF(B17="IOPES",VLOOKUP(C17,'LABOR-SERVIÇOS'!A:H,6,FALSE),IF(B17="SINAPI",VLOOKUP(C17,'SINAPI-SERVIÇOS'!A:D,3,FALSE),IF(LEFT(C17,3)="ARQ",VLOOKUP(VALUE(RIGHT(C17,3)),'ARQ-COMP'!B:J,5,FALSE),IF(LEFT(C17,3)="SCI",VLOOKUP(VALUE(RIGHT(C17,3)),'GAS-COMP'!#REF!,5,FALSE),IF(LEFT(C17,3)="SCE",VLOOKUP(VALUE(RIGHT(C17,3)),'SCE-COMP'!B:J,5,FALSE),IF(LEFT(C17,3)="EST",VLOOKUP(VALUE(RIGHT(C17,3)),'EST-COMP'!B:J,5,FALSE),IF(LEFT(C17,3)="HID",VLOOKUP(VALUE(RIGHT(C17,3)),'HID-COMP'!B:J,5,FALSE),IF(LEFT(C17,3)="INC",VLOOKUP(VALUE(RIGHT(C17,3)),'INC-COMP'!B:J,5,FALSE),IF(LEFT(C17,3)="ELE",VLOOKUP(VALUE(RIGHT(C17,3)),#REF!,5,FALSE),IF(LEFT(C17,3)="CAB",VLOOKUP(VALUE(RIGHT(C17,3)),#REF!,5,FALSE),IF(LEFT(C17,3)="SEG",VLOOKUP(VALUE(RIGHT(C17,3)),'SEG-COMP'!B:J,5,FALSE),IF(LEFT(C17,3)="CLI",VLOOKUP(VALUE(RIGHT(C17,3)),'CLI-COMP'!B:J,5,FALSE),IF(LEFT(C17,4)="IMPL",VLOOKUP(VALUE(RIGHT(C17,3)),'IMPL-COMP'!B:J,5,FALSE),IF(LEFT(C17,4)="SPDA",VLOOKUP(VALUE(RIGHT(C17,3)),'SPDA-COMP'!B:J,5,FALSE),IF(LEFT(C17,4)="SDAI",VLOOKUP(VALUE(RIGHT(C17,3)),'ADM-COMP'!B:J,5,FALSE),IF(LEFT(C17,5)="IMPER",VLOOKUP(VALUE(RIGHT(C17,3)),'IMPER-COMP'!B:J,5,FALSE),"")))))))))))))))) -> M | F17: =ROUND(VLOOKUP(A17,'MEM-LEVANT'!A12:I2615,9,FALSE),2) -> 335 | G17: =IF(B17="IOPES",VLOOKUP(C17,'LABOR-SERVIÇOS'!A:H,7,FALSE),IF(B17="SINAPI",VLOOKUP(C17,'SINAPI-SERVIÇOS'!A:H,8,FALSE),IF(LEFT(C17,3)="ARQ",VLOOKUP(VALUE(RIGHT(C17,3)),'ARQ-COMP'!B:J,9,FALSE),IF(LEFT(C17,3)="SCI",VLOOKUP(VALUE(RIGHT(C17,3)),'GAS-COMP'!#REF!,9,FALSE),IF(LEFT(C17,3)="SCE",VLOOKUP(VALUE(RIGHT(C17,3)),'SCE-COMP'!B:J,9,FALSE),IF(LEFT(C17,3)="EST",VLOOKUP(VALUE(RIGHT(C17,3)),'EST-COMP'!B:J,9,FALSE),IF(LEFT(C17,3)="HID",VLOOKUP(VALUE(RIGHT(C17,3)),'HID-COMP'!B:J,9,FALSE),IF(LEFT(C17,3)="INC",VLOOKUP(VALUE(RIGHT(C17,3)),'INC-COMP'!B:J,9,FALSE),IF(LEFT(C17,3)="ELE",VLOOKUP(VALUE(RIGHT(C17,3)),#REF!,9,FALSE),IF(LEFT(C17,3)="CAB",VLOOKUP(VALUE(RIGHT(C17,3)),#REF!,9,FALSE),IF(LEFT(C17,3)="SEG",VLOOKUP(VALUE(RIGHT(C17,3)),'SEG-COMP'!B:J,9,FALSE),IF(LEFT(C17,3)="CLI",VLOOKUP(VALUE(RIGHT(C17,3)),'CLI-COMP'!B:J,9,FALSE),IF(LEFT(C17,4)="IMPL",VLOOKUP(VALUE(RIGHT(C17,3)),'IMPL-COMP'!B:J,9,FALSE),IF(LEFT(C17,4)="SPDA",VLOOKUP(VALUE(RIGHT(C17,3)),'SPDA-COMP'!B:J,9,FALSE),IF(LEFT(C17,4)="SDAI",VLOOKUP(VALUE(RIGHT(C17,3)),'ADM-COMP'!B:J,9,FALSE),IF(LEFT(C17,5)="IMPER",VLOOKUP(VALUE(RIGHT(C17,3)),'IMPER-COMP'!B:J,9,FALSE),"")))))))))))))))) -> 197.24 | H17: =ROUND(F17*G17,2) -> 66075.4 | I17: =H17/$H$441 -> 0.0038634015
A18: 01.03.03 | B18: IOPES | C18: =20339 -> 20339 | D18: =IF(B18="IOPES",VLOOKUP(C18,'LABOR-SERVIÇOS'!A:H,5,FALSE),IF(B18="SINAPI",VLOOKUP(C18,'SINAPI-SERVIÇOS'!A:D,2,FALSE),IF(LEFT(C18,3)="ARQ",VLOOKUP(VALUE(RIGHT(C18,3)),'ARQ-COMP'!B:J,4,FALSE),IF(LEFT(C18,3)="SCI",VLOOKUP(VALUE(RIGHT(C18,3)),'GAS-COMP'!#REF!,4,FALSE),IF(LEFT(C18,3)="SCE",VLOOKUP(VALUE(RIGHT(C18,3)),'SCE-COMP'!B:J,4,FALSE),IF(LEFT(C18,3)="EST",VLOOKUP(VALUE(RIGHT(C18,3)),'EST-COMP'!B:J,4,FALSE),IF(LEFT(C18,3)="HID",VLOOKUP(VALUE(RIGHT(C18,3)),'HID-COMP'!B:J,4,FALSE),IF(LEFT(C18,3)="INC",VLOOKUP(VALUE(RIGHT(C18,3)),'INC-COMP'!B:J,4,FALSE),IF(LEFT(C18,3)="ELE",VLOOKUP(VALUE(RIGHT(C18,3)),#REF!,4,FALSE),IF(LEFT(C18,3)="CAB",VLOOKUP(VALUE(RIGHT(C18,3)),#REF!,4,FALSE),IF(LEFT(C18,3)="SEG",VLOOKUP(VALUE(RIGHT(C18,3)),'SEG-COMP'!B:J,4,FALSE),IF(LEFT(C18,3)="CLI",VLOOKUP(VALUE(RIGHT(C18,3)),'CLI-COMP'!B:J,4,FALSE),IF(LEFT(C18,4)="IMPL",VLOOKUP(VALUE(RIGHT(C18,3)),'IMPL-COMP'!B:J,4,FALSE),IF(LEFT(C18,4)="SPDA",VLOOKUP(VALUE(RIGHT(C18,3)),'SPDA-COMP'!B:J,4,FALSE),IF(LEFT(C18,4)="SDAI",VLOOKUP(VALUE(RIGHT(C18,3)),'ADM-COMP'!B:J,4,FALSE),IF(LEFT(C18,5)="IMPER",VLOOKUP(VALUE(RIGHT(C18,3)),'IMPER-COMP'!B:J,4,FALSE),"")))))))))))))))) -> LOCAÇÃO DE ANDAIME METÁLICO PARA TRABALHO EM FACHADA DE EDIFÍCO (ALUGUEL DE 1 M² POR 1 MÊS) INCLUSIVE FRETE, MONTAGEM E DESMONTAGEM | E18: =IF(B18="IOPES",VLOOKUP(C18,'LABOR-SERVIÇOS'!A:H,6,FALSE),IF(B18="SINAPI",VLOOKUP(C18,'SINAPI-SERVIÇOS'!A:D,3,FALSE),IF(LEFT(C18,3)="ARQ",VLOOKUP(VALUE(RIGHT(C18,3)),'ARQ-COMP'!B:J,5,FALSE),IF(LEFT(C18,3)="SCI",VLOOKUP(VALUE(RIGHT(C18,3)),'GAS-COMP'!#REF!,5,FALSE),IF(LEFT(C18,3)="SCE",VLOOKUP(VALUE(RIGHT(C18,3)),'SCE-COMP'!B:J,5,FALSE),IF(LEFT(C18,3)="EST",VLOOKUP(VALUE(RIGHT(C18,3)),'EST-COMP'!B:J,5,FALSE),IF(LEFT(C18,3)="HID",VLOOKUP(VALUE(RIGHT(C18,3)),'HID-COMP'!B:J,5,FALSE),IF(LEFT(C18,3)="INC",VLOOKUP(VALUE(RIGHT(C18,3)),'INC-COMP'!B:J,5,FALSE),IF(LEFT(C18,3)="ELE",VLOOKUP(VALUE(RIGHT(C18,3)),#REF!,5,FALSE),IF(LEFT(C18,3)="CAB",VLOOKUP(VALUE(RIGHT(C18,3)),#REF!,5,FALSE),IF(LEFT(C18,3)="SEG",VLOOKUP(VALUE(RIGHT(C18,3)),'SEG-COMP'!B:J,5,FALSE),IF(LEFT(C18,3)="CLI",VLOOKUP(VALUE(RIGHT(C18,3)),'CLI-COMP'!B:J,5,FALSE),IF(LEFT(C18,4)="IMPL",VLOOKUP(VALUE(RIGHT(C18,3)),'IMPL-COMP'!B:J,5,FALSE),IF(LEFT(C18,4)="SPDA",VLOOKUP(VALUE(RIGHT(C18,3)),'SPDA-COMP'!B:J,5,FALSE),IF(LEFT(C18,4)="SDAI",VLOOKUP(VALUE(RIGHT(C18,3)),'ADM-COMP'!B:J,5,FALSE),IF(LEFT(C18,5)="IMPER",VLOOKUP(VALUE(RIGHT(C18,3)),'IMPER-COMP'!B:J,5,FALSE),"")))))))))))))))) -> M2 | F18: =ROUND(VLOOKUP(A18,'MEM-LEVANT'!A13:I2616,9,FALSE),2) -> 3000 | G18: =IF(B18="IOPES",VLOOKUP(C18,'LABOR-SERVIÇOS'!A:H,7,FALSE),IF(B18="SINAPI",VLOOKUP(C18,'SINAPI-SERVIÇOS'!A:H,8,FALSE),IF(LEFT(C18,3)="ARQ",VLOOKUP(VALUE(RIGHT(C18,3)),'ARQ-COMP'!B:J,9,FALSE),IF(LEFT(C18,3)="SCI",VLOOKUP(VALUE(RIGHT(C18,3)),'GAS-COMP'!#REF!,9,FALSE),IF(LEFT(C18,3)="SCE",VLOOKUP(VALUE(RIGHT(C18,3)),'SCE-COMP'!B:J,9,FALSE),IF(LEFT(C18,3)="EST",VLOOKUP(VALUE(RIGHT(C18,3)),'EST-COMP'!B:J,9,FALSE),IF(LEFT(C18,3)="HID",VLOOKUP(VALUE(RIGHT(C18,3)),'HID-COMP'!B:J,9,FALSE),IF(LEFT(C18,3)="INC",VLOOKUP(VALUE(RIGHT(C18,3)),'INC-COMP'!B:J,9,FALSE),IF(LEFT(C18,3)="ELE",VLOOKUP(VALUE(RIGHT(C18,3)),#REF!,9,FALSE),IF(LEFT(C18,3)="CAB",VLOOKUP(VALUE(RIGHT(C18,3)),#REF!,9,FALSE),IF(LEFT(C18,3)="SEG",VLOOKUP(VALUE(RIGHT(C18,3)),'SEG-COMP'!B:J,9,FALSE),IF(LEFT(C18,3)="CLI",VLOOKUP(VALUE(RIGHT(C18,3)),'CLI-COMP'!B:J,9,FALSE),IF(LEFT(C18,4)="IMPL",VLOOKUP(VALUE(RIGHT(C18,3)),'IMPL-COMP'!B:J,9,FALSE),IF(LEFT(C18,4)="SPDA",VLOOKUP(VALUE(RIGHT(C18,3)),'SPDA-COMP'!B:J,9,FALSE),IF(LEFT(C18,4)="SDAI",VLOOKUP(VALUE(RIGHT(C18,3)),'ADM-COMP'!B:J,9,FALSE),IF(LEFT(C18,5)="IMPER",VLOOKUP(VALUE(RIGHT(C18,3)),'IMPER-COMP'!B:J,9,FALSE),"")))))))))))))))) -> 28.53 | H18: =ROUND(F18*G18,2) -> 85590 | I18: =H18/$H$441 -> 0.0050044122
A19: 01.03.04 | B19: IOPES | C19: 20701 | D19: =IF(B19="IOPES",VLOOKUP(C19,'LABOR-SERVIÇOS'!A:H,5,FALSE),IF(B19="SINAPI",VLOOKUP(C19,'SINAPI-SERVIÇOS'!A:D,2,FALSE),IF(LEFT(C19,3)="ARQ",VLOOKUP(VALUE(RIGHT(C19,3)),'ARQ-COMP'!B:J,4,FALSE),IF(LEFT(C19,3)="SCI",VLOOKUP(VALUE(RIGHT(C19,3)),'GAS-COMP'!#REF!,4,FALSE),IF(LEFT(C19,3)="SCE",VLOOKUP(VALUE(RIGHT(C19,3)),'SCE-COMP'!B:J,4,FALSE),IF(LEFT(C19,3)="EST",VLOOKUP(VALUE(RIGHT(C19,3)),'EST-COMP'!B:J,4,FALSE),IF(LEFT(C19,3)="HID",VLOOKUP(VALUE(RIGHT(C19,3)),'HID-COMP'!B:J,4,FALSE),IF(LEFT(C19,3)="INC",VLOOKUP(VALUE(RIGHT(C19,3)),'INC-COMP'!B:J,4,FALSE),IF(LEFT(C19,3)="ELE",VLOOKUP(VALUE(RIGHT(C19,3)),#REF!,4,FALSE),IF(LEFT(C19,3)="CAB",VLOOKUP(VALUE(RIGHT(C19,3)),#REF!,4,FALSE),IF(LEFT(C19,3)="SEG",VLOOKUP(VALUE(RIGHT(C19,3)),'SEG-COMP'!B:J,4,FALSE),IF(LEFT(C19,3)="CLI",VLOOKUP(VALUE(RIGHT(C19,3)),'CLI-COMP'!B:J,4,FALSE),IF(LEFT(C19,4)="IMPL",VLOOKUP(VALUE(RIGHT(C19,3)),'IMPL-COMP'!B:J,4,FALSE),IF(LEFT(C19,4)="SPDA",VLOOKUP(VALUE(RIGHT(C19,3)),'SPDA-COMP'!B:J,4,FALSE),IF(LEFT(C19,4)="SDAI",VLOOKUP(VALUE(RIGHT(C19,3)),'ADM-COMP'!B:J,4,FALSE),IF(LEFT(C19,5)="IMPER",VLOOKUP(VALUE(RIGHT(C19,3)),'IMPER-COMP'!B:J,4,FALSE),"")))))))))))))))) -> BARRACÃO PARA ESCRITÓRIO COM SANITÁRIO ÁREA DE 14.50 M2, DE CHAPA DE COMPENS. 12MM E PONTALETE 8X8CM, PISO CIMENTADO E COBERTURA DE TELHA DE FIBROC. 6MM, INCL. PONTO DE LUZ E CX. DE INSPEÇÃO, CONF. PROJETO (1 UTILIZAÇÃO) | E19: =IF(B19="IOPES",VLOOKUP(C19,'LABOR-SERVIÇOS'!A:H,6,FALSE),IF(B19="SINAPI",VLOOKUP(C19,'SINAPI-SERVIÇOS'!A:D,3,FALSE),IF(LEFT(C19,3)="ARQ",VLOOKUP(VALUE(RIGHT(C19,3)),'ARQ-COMP'!B:J,5,FALSE),IF(LEFT(C19,3)="SCI",VLOOKUP(VALUE(RIGHT(C19,3)),'GAS-COMP'!#REF!,5,FALSE),IF(LEFT(C19,3)="SCE",VLOOKUP(VALUE(RIGHT(C19,3)),'SCE-COMP'!B:J,5,FALSE),IF(LEFT(C19,3)="EST",VLOOKUP(VALUE(RIGHT(C19,3)),'EST-COMP'!B:J,5,FALSE),IF(LEFT(C19,3)="HID",VLOOKUP(VALUE(RIGHT(C19,3)),'HID-COMP'!B:J,5,FALSE),IF(LEFT(C19,3)="INC",VLOOKUP(VALUE(RIGHT(C19,3)),'INC-COMP'!B:J,5,FALSE),IF(LEFT(C19,3)="ELE",VLOOKUP(VALUE(RIGHT(C19,3)),#REF!,5,FALSE),IF(LEFT(C19,3)="CAB",VLOOKUP(VALUE(RIGHT(C19,3)),#REF!,5,FALSE),IF(LEFT(C19,3)="SEG",VLOOKUP(VALUE(RIGHT(C19,3)),'SEG-COMP'!B:J,5,FALSE),IF(LEFT(C19,3)="CLI",VLOOKUP(VALUE(RIGHT(C19,3)),'CLI-COMP'!B:J,5,FALSE),IF(LEFT(C19,4)="IMPL",VLOOKUP(VALUE(RIGHT(C19,3)),'IMPL-COMP'!B:J,5,FALSE),IF(LEFT(C19,4)="SPDA",VLOOKUP(VALUE(RIGHT(C19,3)),'SPDA-COMP'!B:J,5,FALSE),IF(LEFT(C19,4)="SDAI",VLOOKUP(VALUE(RIGHT(C19,3)),'ADM-COMP'!B:J,5,FALSE),IF(LEFT(C19,5)="IMPER",VLOOKUP(VALUE(RIGHT(C19,3)),'IMPER-COMP'!B:J,5,FALSE),"")))))))))))))))) -> M2 | F19: =ROUND(VLOOKUP(A19,'MEM-LEVANT'!A14:I2617,9,FALSE),2) -> 14.5 | G19: =IF(B19="IOPES",VLOOKUP(C19,'LABOR-SERVIÇOS'!A:H,7,FALSE),IF(B19="SINAPI",VLOOKUP(C19,'SINAPI-SERVIÇOS'!A:H,8,FALSE),IF(LEFT(C19,3)="ARQ",VLOOKUP(VALUE(RIGHT(C19,3)),'ARQ-COMP'!B:J,9,FALSE),IF(LEFT(C19,3)="SCI",VLOOKUP(VALUE(RIGHT(C19,3)),'GAS-COMP'!#REF!,9,FALSE),IF(LEFT(C19,3)="SCE",VLOOKUP(VALUE(RIGHT(C19,3)),'SCE-COMP'!B:J,9,FALSE),IF(LEFT(C19,3)="EST",VLOOKUP(VALUE(RIGHT(C19,3)),'EST-COMP'!B:J,9,FALSE),IF(LEFT(C19,3)="HID",VLOOKUP(VALUE(RIGHT(C19,3)),'HID-COMP'!B:J,9,FALSE),IF(LEFT(C19,3)="INC",VLOOKUP(VALUE(RIGHT(C19,3)),'INC-COMP'!B:J,9,FALSE),IF(LEFT(C19,3)="ELE",VLOOKUP(VALUE(RIGHT(C19,3)),#REF!,9,FALSE),IF(LEFT(C19,3)="CAB",VLOOKUP(VALUE(RIGHT(C19,3)),#REF!,9,FALSE),IF(LEFT(C19,3)="SEG",VLOOKUP(VALUE(RIGHT(C19,3)),'SEG-COMP'!B:J,9,FALSE),IF(LEFT(C19,3)="CLI",VLOOKUP(VALUE(RIGHT(C19,3)),'CLI-COMP'!B:J,9,FALSE),IF(LEFT(C19,4)="IMPL",VLOOKUP(VALUE(RIGHT(C19,3)),'IMPL-COMP'!B:J,9,FALSE),IF(LEFT(C19,4)="SPDA",VLOOKUP(VALUE(RIGHT(C19,3)),'SPDA-COMP'!B:J,9,FALSE),IF(LEFT(C19,4)="SDAI",VLOOKUP(VALUE(RIGHT(C19,3)),'ADM-COMP'!B:J,9,FALSE),IF(LEFT(C19,5)="IMPER",VLOOKUP(VALUE(RIGHT(C19,3)),'IMPER-COMP'!B:J,9,FALSE),"")))))))))))))))) -> 1147.28 | H19: =ROUND(F19*G19,2) -> 16635.56 | I19: =H19/$H$441 -> 0.00097267436
A20: 01.03.05 | B20: IOPES | C20: =20344 -> 20344 | D20: =IF(B20="IOPES",VLOOKUP(C20,'LABOR-SERVIÇOS'!A:H,5,FALSE),IF(B20="SINAPI",VLOOKUP(C20,'SINAPI-SERVIÇOS'!A:D,2,FALSE),IF(LEFT(C20,3)="ARQ",VLOOKUP(VALUE(RIGHT(C20,3)),'ARQ-COMP'!B:J,4,FALSE),IF(LEFT(C20,3)="SCI",VLOOKUP(VALUE(RIGHT(C20,3)),'GAS-COMP'!#REF!,4,FALSE),IF(LEFT(C20,3)="SCE",VLOOKUP(VALUE(RIGHT(C20,3)),'SCE-COMP'!B:J,4,FALSE),IF(LEFT(C20,3)="EST",VLOOKUP(VALUE(RIGHT(C20,3)),'EST-COMP'!B:J,4,FALSE),IF(LEFT(C20,3)="HID",VLOOKUP(VALUE(RIGHT(C20,3)),'HID-COMP'!B:J,4,FALSE),IF(LEFT(C20,3)="INC",VLOOKUP(VALUE(RIGHT(C20,3)),'INC-COMP'!B:J,4,FALSE),IF(LEFT(C20,3)="ELE",VLOOKUP(VALUE(RIGHT(C20,3)),#REF!,4,FALSE),IF(LEFT(C20,3)="CAB",VLOOKUP(VALUE(RIGHT(C20,3)),#REF!,4,FALSE),IF(LEFT(C20,3)="SEG",VLOOKUP(VALUE(RIGHT(C20,3)),'SEG-COMP'!B:J,4,FALSE),IF(LEFT(C20,3)="CLI",VLOOKUP(VALUE(RIGHT(C20,3)),'CLI-COMP'!B:J,4,FALSE),IF(LEFT(C20,4)="IMPL",VLOOKUP(VALUE(RIGHT(C20,3)),'IMPL-COMP'!B:J,4,FALSE),IF(LEFT(C20,4)="SPDA",VLOOKUP(VALUE(RIGHT(C20,3)),'SPDA-COMP'!B:J,4,FALSE),IF(LEFT(C20,4)="SDAI",VLOOKUP(VALUE(RIGHT(C20,3)),'ADM-COMP'!B:J,4,FALSE),IF(LEFT(C20,5)="IMPER",VLOOKUP(VALUE(RIGHT(C20,3)),'IMPER-COMP'!B:J,4,FALSE),"")))))))))))))))) -> MOBILIZAÇÃO E DESMOBILIZAÇÃO DE CONTEINER LOCADO PARA BARRACÃO DE OBRA | E20: =IF(B20="IOPES",VLOOKUP(C20,'LABOR-SERVIÇOS'!A:H,6,FALSE),IF(B20="SINAPI",VLOOKUP(C20,'SINAPI-SERVIÇOS'!A:D,3,FALSE),IF(LEFT(C20,3)="ARQ",VLOOKUP(VALUE(RIGHT(C20,3)),'ARQ-COMP'!B:J,5,FALSE),IF(LEFT(C20,3)="SCI",VLOOKUP(VALUE(RIGHT(C20,3)),'GAS-COMP'!#REF!,5,FALSE),IF(LEFT(C20,3)="SCE",VLOOKUP(VALUE(RIGHT(C20,3)),'SCE-COMP'!B:J,5,FALSE),IF(LEFT(C20,3)="EST",VLOOKUP(VALUE(RIGHT(C20,3)),'EST-COMP'!B:J,5,FALSE),IF(LEFT(C20,3)="HID",VLOOKUP(VALUE(RIGHT(C20,3)),'HID-COMP'!B:J,5,FALSE),IF(LEFT(C20,3)="INC",VLOOKUP(VALUE(RIGHT(C20,3)),'INC-COMP'!B:J,5,FALSE),IF(LEFT(C20,3)="ELE",VLOOKUP(VALUE(RIGHT(C20,3)),#REF!,5,FALSE),IF(LEFT(C20,3)="CAB",VLOOKUP(VALUE(RIGHT(C20,3)),#REF!,5,FALSE),IF(LEFT(C20,3)="SEG",VLOOKUP(VALUE(RIGHT(C20,3)),'SEG-COMP'!B:J,5,FALSE),IF(LEFT(C20,3)="CLI",VLOOKUP(VALUE(RIGHT(C20,3)),'CLI-COMP'!B:J,5,FALSE),IF(LEFT(C20,4)="IMPL",VLOOKUP(VALUE(RIGHT(C20,3)),'IMPL-COMP'!B:J,5,FALSE),IF(LEFT(C20,4)="SPDA",VLOOKUP(VALUE(RIGHT(C20,3)),'SPDA-COMP'!B:J,5,FALSE),IF(LEFT(C20,4)="SDAI",VLOOKUP(VALUE(RIGHT(C20,3)),'ADM-COMP'!B:J,5,FALSE),IF(LEFT(C20,5)="IMPER",VLOOKUP(VALUE(RIGHT(C20,3)),'IMPER-COMP'!B:J,5,FALSE),"")))))))))))))))) -> UND | F20: =ROUND(VLOOKUP(A20,'MEM-LEVANT'!A15:I2618,9,FALSE),2) -> 3 | G20: =IF(B20="IOPES",VLOOKUP(C20,'LABOR-SERVIÇOS'!A:H,7,FALSE),IF(B20="SINAPI",VLOOKUP(C20,'SINAPI-SERVIÇOS'!A:H,8,FALSE),IF(LEFT(C20,3)="ARQ",VLOOKUP(VALUE(RIGHT(C20,3)),'ARQ-COMP'!B:J,9,FALSE),IF(LEFT(C20,3)="SCI",VLOOKUP(VALUE(RIGHT(C20,3)),'GAS-COMP'!#REF!,9,FALSE),IF(LEFT(C20,3)="SCE",VLOOKUP(VALUE(RIGHT(C20,3)),'SCE-COMP'!B:J,9,FALSE),IF(LEFT(C20,3)="EST",VLOOKUP(VALUE(RIGHT(C20,3)),'EST-COMP'!B:J,9,FALSE),IF(LEFT(C20,3)="HID",VLOOKUP(VALUE(RIGHT(C20,3)),'HID-COMP'!B:J,9,FALSE),IF(LEFT(C20,3)="INC",VLOOKUP(VALUE(RIGHT(C20,3)),'INC-COMP'!B:J,9,FALSE),IF(LEFT(C20,3)="ELE",VLOOKUP(VALUE(RIGHT(C20,3)),#REF!,9,FALSE),IF(LEFT(C20,3)="CAB",VLOOKUP(VALUE(RIGHT(C20,3)),#REF!,9,FALSE),IF(LEFT(C20,3)="SEG",VLOOKUP(VALUE(RIGHT(C20,3)),'SEG-COMP'!B:J,9,FALSE),IF(LEFT(C20,3)="CLI",VLOOKUP(VALUE(RIGHT(C20,3)),'CLI-COMP'!B:J,9,FALSE),IF(LEFT(C20,4)="IMPL",VLOOKUP(VALUE(RIGHT(C20,3)),'IMPL-COMP'!B:J,9,FALSE),IF(LEFT(C20,4)="SPDA",VLOOKUP(VALUE(RIGHT(C20,3)),'SPDA-COMP'!B:J,9,FALSE),IF(LEFT(C20,4)="SDAI",VLOOKUP(VALUE(RIGHT(C20,3)),'ADM-COMP'!B:J,9,FALSE),IF(LEFT(C20,5)="IMPER",VLOOKUP(VALUE(RIGHT(C20,3)),'IMPER-COMP'!B:J,9,FALSE),"")))))))))))))))) -> 2220.84 | H20: =ROUND(F20*G20,2) -> 6662.52 | I20: =H20/$H$441 -> 0.00038955481
A21: 01.03.06 | B21: IOPES | C21: =20713 -> 20713 | D21: =IF(B21="IOPES",VLOOKUP(C21,'LABOR-SERVIÇOS'!A:H,5,FALSE),IF(B21="SINAPI",VLOOKUP(C21,'SINAPI-SERVIÇOS'!A:D,2,FALSE),IF(LEFT(C21,3)="ARQ",VLOOKUP(VALUE(RIGHT(C21,3)),'ARQ-COMP'!B:J,4,FALSE),IF(LEFT(C21,3)="SCI",VLOOKUP(VALUE(RIGHT(C21,3)),'GAS-COMP'!#REF!,4,FALSE),IF(LEFT(C21,3)="SCE",VLOOKUP(VALUE(RIGHT(C21,3)),'SCE-COMP'!B:J,4,FALSE),IF(LEFT(C21,3)="EST",VLOOKUP(VALUE(RIGHT(C21,3)),'EST-COMP'!B:J,4,FALSE),IF(LEFT(C21,3)="HID",VLOOKUP(VALUE(RIGHT(C21,3)),'HID-COMP'!B:J,4,FALSE),IF(LEFT(C21,3)="INC",VLOOKUP(VALUE(RIGHT(C21,3)),'INC-COMP'!B:J,4,FALSE),IF(LEFT(C21,3)="ELE",VLOOKUP(VALUE(RIGHT(C21,3)),#REF!,4,FALSE),IF(LEFT(C21,3)="CAB",VLOOKUP(VALUE(RIGHT(C21,3)),#REF!,4,FALSE),IF(LEFT(C21,3)="SEG",VLOOKUP(VALUE(RIGHT(C21,3)),'SEG-COMP'!B:J,4,FALSE),IF(LEFT(C21,3)="CLI",VLOOKUP(VALUE(RIGHT(C21,3)),'CLI-COMP'!B:J,4,FALSE),IF(LEFT(C21,4)="IMPL",VLOOKUP(VALUE(RIGHT(C21,3)),'IMPL-COMP'!B:J,4,FALSE),IF(LEFT(C21,4)="SPDA",VLOOKUP(VALUE(RIGHT(C21,3)),'SPDA-COMP'!B:J,4,FALSE),IF(LEFT(C21,4)="SDAI",VLOOKUP(VALUE(RIGHT(C21,3)),'ADM-COMP'!B:J,4,FALSE),IF(LEFT(C21,5)="IMPER",VLOOKUP(VALUE(RIGHT(C21,3)),'IMPER-COMP'!B:J,4,FALSE),"")))))))))))))))) -> REDE DE LUZ, INCL. PADRÃO ENTRADA DE ENERGIA TRIFÁS., CABO DE LIGAÇÃO ATÉ BARRACÕES, QUADRO DE DISTRIB., DISJ. E CHAVE DE FORÇA (QUANDO NECESSÁRIO), CONS. 20M ENTRE PADRÃO ENTRADA E QDG, CONF. PROJETO (1 UTILIZAÇÃO) | E21: =IF(B21="IOPES",VLOOKUP(C21,'LABOR-SERVIÇOS'!A:H,6,FALSE),IF(B21="SINAPI",VLOOKUP(C21,'SINAPI-SERVIÇOS'!A:D,3,FALSE),IF(LEFT(C21,3)="ARQ",VLOOKUP(VALUE(RIGHT(C21,3)),'ARQ-COMP'!B:J,5,FALSE),IF(LEFT(C21,3)="SCI",VLOOKUP(VALUE(RIGHT(C21,3)),'GAS-COMP'!#REF!,5,FALSE),IF(LEFT(C21,3)="SCE",VLOOKUP(VALUE(RIGHT(C21,3)),'SCE-COMP'!B:J,5,FALSE),IF(LEFT(C21,3)="EST",VLOOKUP(VALUE(RIGHT(C21,3)),'EST-COMP'!B:J,5,FALSE),IF(LEFT(C21,3)="HID",VLOOKUP(VALUE(RIGHT(C21,3)),'HID-COMP'!B:J,5,FALSE),IF(LEFT(C21,3)="INC",VLOOKUP(VALUE(RIGHT(C21,3)),'INC-COMP'!B:J,5,FALSE),IF(LEFT(C21,3)="ELE",VLOOKUP(VALUE(RIGHT(C21,3)),#REF!,5,FALSE),IF(LEFT(C21,3)="CAB",VLOOKUP(VALUE(RIGHT(C21,3)),#REF!,5,FALSE),IF(LEFT(C21,3)="SEG",VLOOKUP(VALUE(RIGHT(C21,3)),'SEG-COMP'!B:J,5,FALSE),IF(LEFT(C21,3)="CLI",VLOOKUP(VALUE(RIGHT(C21,3)),'CLI-COMP'!B:J,5,FALSE),IF(LEFT(C21,4)="IMPL",VLOOKUP(VALUE(RIGHT(C21,3)),'IMPL-COMP'!B:J,5,FALSE),IF(LEFT(C21,4)="SPDA",VLOOKUP(VALUE(RIGHT(C21,3)),'SPDA-COMP'!B:J,5,FALSE),IF(LEFT(C21,4)="SDAI",VLOOKUP(VALUE(RIGHT(C21,3)),'ADM-COMP'!B:J,5,FALSE),IF(LEFT(C21,5)="IMPER",VLOOKUP(VALUE(RIGHT(C21,3)),'IMPER-COMP'!B:J,5,FALSE),"")))))))))))))))) -> M | F21: =ROUND(VLOOKUP(A21,'MEM-LEVANT'!A18:I2621,9,FALSE),2) -> 20 | G21: =IF(B21="IOPES",VLOOKUP(C21,'LABOR-SERVIÇOS'!A:H,7,FALSE),IF(B21="SINAPI",VLOOKUP(C21,'SINAPI-SERVIÇOS'!A:H,8,FALSE),IF(LEFT(C21,3)="ARQ",VLOOKUP(VALUE(RIGHT(C21,3)),'ARQ-COMP'!B:J,9,FALSE),IF(LEFT(C21,3)="SCI",VLOOKUP(VALUE(RIGHT(C21,3)),'GAS-COMP'!#REF!,9,FALSE),IF(LEFT(C21,3)="SCE",VLOOKUP(VALUE(RIGHT(C21,3)),'SCE-COMP'!B:J,9,FALSE),IF(LEFT(C21,3)="EST",VLOOKUP(VALUE(RIGHT(C21,3)),'EST-COMP'!B:J,9,FALSE),IF(LEFT(C21,3)="HID",VLOOKUP(VALUE(RIGHT(C21,3)),'HID-COMP'!B:J,9,FALSE),IF(LEFT(C21,3)="INC",VLOOKUP(VALUE(RIGHT(C21,3)),'INC-COMP'!B:J,9,FALSE),IF(LEFT(C21,3)="ELE",VLOOKUP(VALUE(RIGHT(C21,3)),#REF!,9,FALSE),IF(LEFT(C21,3)="CAB",VLOOKUP(VALUE(RIGHT(C21,3)),#REF!,9,FALSE),IF(LEFT(C21,3)="SEG",VLOOKUP(VALUE(RIGHT(C21,3)),'SEG-COMP'!B:J,9,FALSE),IF(LEFT(C21,3)="CLI",VLOOKUP(VALUE(RIGHT(C21,3)),'CLI-COMP'!B:J,9,FALSE),IF(LEFT(C21,4)="IMPL",VLOOKUP(VALUE(RIGHT(C21,3)),'IMPL-COMP'!B:J,9,FALSE),IF(LEFT(C21,4)="SPDA",VLOOKUP(VALUE(RIGHT(C21,3)),'SPDA-COMP'!B:J,9,FALSE),IF(LEFT(C21,4)="SDAI",VLOOKUP(VALUE(RIGHT(C21,3)),'ADM-COMP'!B:J,9,FALSE),IF(LEFT(C21,5)="IMPER",VLOOKUP(VALUE(RIGHT(C21,3)),'IMPER-COMP'!B:J,9,FALSE),"")))))))))))))))) -> 669.17 | H21: =ROUND(F21*G21,2) -> 13383.4 | I21: =H21/$H$441 -> 0.0007825219
A22: 01.03.07 | B22: IOPES | C22: ='LABOR-SERVIÇOS'!A129 -> 20804 | D22: =IF(B22="IOPES",VLOOKUP(C22,'LABOR-SERVIÇOS'!A:H,5,FALSE),IF(B22="SINAPI",VLOOKUP(C22,'SINAPI-SERVIÇOS'!A:D,2,FALSE),IF(LEFT(C22,3)="ARQ",VLOOKUP(VALUE(RIGHT(C22,3)),'ARQ-COMP'!B:J,4,FALSE),IF(LEFT(C22,3)="SCI",VLOOKUP(VALUE(RIGHT(C22,3)),'GAS-COMP'!#REF!,4,FALSE),IF(LEFT(C22,3)="SCE",VLOOKUP(VALUE(RIGHT(C22,3)),'SCE-COMP'!B:J,4,FALSE),IF(LEFT(C22,3)="EST",VLOOKUP(VALUE(RIGHT(C22,3)),'EST-COMP'!B:J,4,FALSE),IF(LEFT(C22,3)="HID",VLOOKUP(VALUE(RIGHT(C22,3)),'HID-COMP'!B:J,4,FALSE),IF(LEFT(C22,3)="INC",VLOOKUP(VALUE(RIGHT(C22,3)),'INC-COMP'!B:J,4,FALSE),IF(LEFT(C22,3)="ELE",VLOOKUP(VALUE(RIGHT(C22,3)),#REF!,4,FALSE),IF(LEFT(C22,3)="CAB",VLOOKUP(VALUE(RIGHT(C22,3)),#REF!,4,FALSE),IF(LEFT(C22,3)="SEG",VLOOKUP(VALUE(RIGHT(C22,3)),'SEG-COMP'!B:J,4,FALSE),IF(LEFT(C22,3)="CLI",VLOOKUP(VALUE(RIGHT(C22,3)),'CLI-COMP'!B:J,4,FALSE),IF(LEFT(C22,4)="IMPL",VLOOKUP(VALUE(RIGHT(C22,3)),'IMPL-COMP'!B:J,4,FALSE),IF(LEFT(C22,4)="SPDA",VLOOKUP(VALUE(RIGHT(C22,3)),'SPDA-COMP'!B:J,4,FALSE),IF(LEFT(C22,4)="SDAI",VLOOKUP(VALUE(RIGHT(C22,3)),'ADM-COMP'!B:J,4,FALSE),IF(LEFT(C22,5)="IMPER",VLOOKUP(VALUE(RIGHT(C22,3)),'IMPER-COMP'!B:J,4,FALSE),"")))))))))))))))) -> REFEITÓRIO COM PAREDES DE CHAPA DE COMPENS. 12MM E PONTALETES 8X8CM, PISO CIMENT. E COBERT. DE TELHAS FIBROC. 6MM, INCL. PONTO DE LUZ E CX. DE INSPEÇÃO (CONS. 1.21M2/FUNC./TURNO), CONF. PROJETO (2 UTILIZAÇÃO) | E22: =IF(B22="IOPES",VLOOKUP(C22,'LABOR-SERVIÇOS'!A:H,6,FALSE),IF(B22="SINAPI",VLOOKUP(C22,'SINAPI-SERVIÇOS'!A:D,3,FALSE),IF(LEFT(C22,3)="ARQ",VLOOKUP(VALUE(RIGHT(C22,3)),'ARQ-COMP'!B:J,5,FALSE),IF(LEFT(C22,3)="SCI",VLOOKUP(VALUE(RIGHT(C22,3)),'GAS-COMP'!#REF!,5,FALSE),IF(LEFT(C22,3)="SCE",VLOOKUP(VALUE(RIGHT(C22,3)),'SCE-COMP'!B:J,5,FALSE),IF(LEFT(C22,3)="EST",VLOOKUP(VALUE(RIGHT(C22,3)),'EST-COMP'!B:J,5,FALSE),IF(LEFT(C22,3)="HID",VLOOKUP(VALUE(RIGHT(C22,3)),'HID-COMP'!B:J,5,FALSE),IF(LEFT(C22,3)="INC",VLOOKUP(VALUE(RIGHT(C22,3)),'INC-COMP'!B:J,5,FALSE),IF(LEFT(C22,3)="ELE",VLOOKUP(VALUE(RIGHT(C22,3)),#REF!,5,FALSE),IF(LEFT(C22,3)="CAB",VLOOKUP(VALUE(RIGHT(C22,3)),#REF!,5,FALSE),IF(LEFT(C22,3)="SEG",VLOOKUP(VALUE(RIGHT(C22,3)),'SEG-COMP'!B:J,5,FALSE),IF(LEFT(C22,3)="CLI",VLOOKUP(VALUE(RIGHT(C22,3)),'CLI-COMP'!B:J,5,FALSE),IF(LEFT(C22,4)="IMPL",VLOOKUP(VALUE(RIGHT(C22,3)),'IMPL-COMP'!B:J,5,FALSE),IF(LEFT(C22,4)="SPDA",VLOOKUP(VALUE(RIGHT(C22,3)),'SPDA-COMP'!B:J,5,FALSE),IF(LEFT(C22,4)="SDAI",VLOOKUP(VALUE(RIGHT(C22,3)),'ADM-COMP'!B:J,5,FALSE),IF(LEFT(C22,5)="IMPER",VLOOKUP(VALUE(RIGHT(C22,3)),'IMPER-COMP'!B:J,5,FALSE),"")))))))))))))))) -> M2 | F22: =ROUND(VLOOKUP(A22,'MEM-LEVANT'!A19:I2622,9,FALSE),2) -> 36.3 | G22: =IF(B22="IOPES",VLOOKUP(C22,'LABOR-SERVIÇOS'!A:H,7,FALSE),IF(B22="SINAPI",VLOOKUP(C22,'SINAPI-SERVIÇOS'!A:H,8,FALSE),IF(LEFT(C22,3)="ARQ",VLOOKUP(VALUE(RIGHT(C22,3)),'ARQ-COMP'!B:J,9,FALSE),IF(LEFT(C22,3)="SCI",VLOOKUP(VALUE(RIGHT(C22,3)),'GAS-COMP'!#REF!,9,FALSE),IF(LEFT(C22,3)="SCE",VLOOKUP(VALUE(RIGHT(C22,3)),'SCE-COMP'!B:J,9,FALSE),IF(LEFT(C22,3)="EST",VLOOKUP(VALUE(RIGHT(C22,3)),'EST-COMP'!B:J,9,FALSE),IF(LEFT(C22,3)="HID",VLOOKUP(VALUE(RIGHT(C22,3)),'HID-COMP'!B:J,9,FALSE),IF(LEFT(C22,3)="INC",VLOOKUP(VALUE(RIGHT(C22,3)),'INC-COMP'!B:J,9,FALSE),IF(LEFT(C22,3)="ELE",VLOOKUP(VALUE(RIGHT(C22,3)),#REF!,9,FALSE),IF(LEFT(C22,3)="CAB",VLOOKUP(VALUE(RIGHT(C22,3)),#REF!,9,FALSE),IF(LEFT(C22,3)="SEG",VLOOKUP(VALUE(RIGHT(C22,3)),'SEG-COMP'!B:J,9,FALSE),IF(LEFT(C22,3)="CLI",VLOOKUP(VALUE(RIGHT(C22,3)),'CLI-COMP'!B:J,9,FALSE),IF(LEFT(C22,4)="IMPL",VLOOKUP(VALUE(RIGHT(C22,3)),'IMPL-COMP'!B:J,9,FALSE),IF(LEFT(C22,4)="SPDA",VLOOKUP(VALUE(RIGHT(C22,3)),'SPDA-COMP'!B:J,9,FALSE),IF(LEFT(C22,4)="SDAI",VLOOKUP(VALUE(RIGHT(C22,3)),'ADM-COMP'!B:J,9,FALSE),IF(LEFT(C22,5)="IMPER",VLOOKUP(VALUE(RIGHT(C22,3)),'IMPER-COMP'!B:J,9,FALSE),"")))))))))))))))) -> 535.37 | H22: =ROUND(F22*G22,2) -> 19433.93 | I22: =H22/$H$441 -> 0.0011362939
